BEGIN:VCALENDAR
VERSION:2.0
PRODID:-//Abortion Action Missouri - ECPv6.15.20//NONSGML v1.0//EN
CALSCALE:GREGORIAN
METHOD:PUBLISH
X-ORIGINAL-URL:https://abortionactionmissouri.org
X-WR-CALDESC:Events for Abortion Action Missouri
REFRESH-INTERVAL;VALUE=DURATION:PT1H
X-Robots-Tag:noindex
X-PUBLISHED-TTL:PT1H
BEGIN:VTIMEZONE
TZID:UTC
BEGIN:STANDARD
TZOFFSETFROM:+0000
TZOFFSETTO:+0000
TZNAME:UTC
DTSTART:20240101T000000
END:STANDARD
END:VTIMEZONE
BEGIN:VEVENT
DTSTART;TZID=UTC:20251106T180000
DTEND;TZID=UTC:20251106T200000
DTSTAMP:20260420T183019
CREATED:20251015T135905Z
LAST-MODIFIED:20251015T135913Z
UID:2824-1762452000-1762459200@abortionactionmissouri.org
SUMMARY:One Year of Legal Abortion - Anniversary Party & Yard Sign Swap - Springfield
DESCRIPTION:Thursday\, November 6\, 2025 – 6:00 PM –  8:00 PM\n			\n				\n				\n				\n				\n				It’s been one year since Missourians made history. One year since a majority of voters said YES to protecting abortion in our state constitution. \nThis past year has also been witness to intense attacks on the will of voters. Anti-abortion\, anti-worker\, anti-democracy politicians spent Legislative Session killing debate and repealing voter approved sick leave\, forcing a deceptively-worded abortion ban on the 2026 ballot\, and even entering a special session to try to choose your representatives for you with illegally gerrymandered congressional maps. But Missourians have won before and are ready to win again. \nJoin Abortion Action Missouri for a night of celebration\, camaraderie\, and action in Springfield. You can swap your old yard signs for the newly revised version to tell your neighbors you stand for reproductive freedom. We will also be sending out NO on 3 postcards to make sure every Missouri voter knows what’s at stake. \n			\n			\n				\n				\n				\n				\n			\n				\n				\n				\n				\n				\n				\n				REGISTER HERE!
URL:https://abortionactionmissouri.org/event/mo-abortion-anniversary-springfield/
LOCATION:National Avenue Christian Church\, 1515 S National Ave\, Springfield\, 65804\, United States
CATEGORIES:Community Events
ATTACH;FMTTYPE=image/png:https://abortionactionmissouri.org/wp-content/uploads/2025/10/SGF-Legal-Abortion-Anniversary-Party-EA-Banner.png
END:VEVENT
END:VCALENDAR