BEGIN:VCALENDAR
VERSION:2.0
PRODID:-//Abortion Action Missouri - ECPv6.15.20//NONSGML v1.0//EN
CALSCALE:GREGORIAN
METHOD:PUBLISH
X-ORIGINAL-URL:https://abortionactionmissouri.org
X-WR-CALDESC:Events for Abortion Action Missouri
REFRESH-INTERVAL;VALUE=DURATION:PT1H
X-Robots-Tag:noindex
X-PUBLISHED-TTL:PT1H
BEGIN:VTIMEZONE
TZID:UTC
BEGIN:STANDARD
TZOFFSETFROM:+0000
TZOFFSETTO:+0000
TZNAME:UTC
DTSTART:20230101T000000
END:STANDARD
END:VTIMEZONE
BEGIN:VEVENT
DTSTART;TZID=UTC:20240801T180000
DTEND;TZID=UTC:20240801T200000
DTSTAMP:20260423T040249
CREATED:20240710T203539Z
LAST-MODIFIED:20240719T221419Z
UID:1179-1722535200-1722542400@abortionactionmissouri.org
SUMMARY:Clinic Escort Training - St. Louis - August 2024
DESCRIPTION:Clinic Escorts will walk with you!\n\n			\n			\n				\n				\n				\n				\n			\n				\n				\n				\n				\n				\n				\n				\n				\n				\n				\n				If you are interested in learning about clinic escorting and how to get involved\, this is for you. We will learn about how to provide the sense of safety and security every patient deserves as they walk to receive the care they want inside the clinic. The location of the training in St. Louis will be disclosed closer to the date of the training and after registration. \n			\n			\n				\n				\n				\n				\n			\n				\n				\n				\n				\n				\n				\n				REGISTER HERE!
URL:https://abortionactionmissouri.org/event/clinic-escort-training-st-louis-august-2024/
LOCATION:TBD\, St. Louis\, Saint Louis\, MO\, United States
CATEGORIES:Clinic Escort Trainings
ATTACH;FMTTYPE=image/png:https://abortionactionmissouri.org/wp-content/uploads/2024/01/Clinic-Escort-Training-EA-Banner.png
END:VEVENT
BEGIN:VEVENT
DTSTART;TZID=UTC:20240803T100000
DTEND;TZID=UTC:20240803T140000
DTSTAMP:20260423T040249
CREATED:20240723T162649Z
LAST-MODIFIED:20240731T213333Z
UID:1238-1722679200-1722693600@abortionactionmissouri.org
SUMMARY:Canvass for Patty Lewis - Saturday\, August 3
DESCRIPTION:Canvass for Patty Lewis – Saturday\, August 3\, 2024 in Kansas City\n			\n				\n				\n				\n				\n				The August 6th election is right around the corner! Join Abortion Action Missouri as we knock doors and talk to voters to elect our repro-champion Patty Lewis to the Missouri State Senate! \n			\n			\n				\n				\n				\n				\n			\n				\n				\n				\n				\n				\n				\n				REGISTER HERE!
URL:https://abortionactionmissouri.org/event/canvass-for-patty-lewis-august-3/
LOCATION:Trinity United Methodist Church\, 620 E Armour Blvd\, Kansas City\, MO\, 64109\, United States
CATEGORIES:Candidate Canvassing
ATTACH;FMTTYPE=image/png:https://abortionactionmissouri.org/wp-content/uploads/2024/07/Patty-Lewis-Canvass-Banners-August-3-Location.png
ORGANIZER;CN="Patty Lewis Campaign":MAILTO:Patty@PattyForMO.com
END:VEVENT
BEGIN:VEVENT
DTSTART;TZID=UTC:20240805T150000
DTEND;TZID=UTC:20240805T190000
DTSTAMP:20260423T040249
CREATED:20240718T195707Z
LAST-MODIFIED:20240718T195812Z
UID:1190-1722870000-1722884400@abortionactionmissouri.org
SUMMARY:Canvass for Cori - Monday\, August 5
DESCRIPTION:Monday\, August 5 – 3 PM – 7 PM  \n			\n			\n				\n				\n				\n				\n			\n				\n				\n				\n				\n				\n				\n				\n				\n				\n				\n				The August 6th election is right around the corner! Join Abortion Action Missouri\, Action St. Louis Power Project\, and other local grassroots organizations as we knock doors and talk to voters to re-elect our repro champion Congresswoman Cori Bush! \n			\n			\n				\n				\n				\n				\n			\n				\n				\n				\n				\n				\n				\n				SIGN ME UP!
URL:https://abortionactionmissouri.org/event/canvass-for-cori-monday-august-5/
LOCATION:TBD\, St. Louis\, Saint Louis\, MO\, United States
CATEGORIES:Community Events
ATTACH;FMTTYPE=image/png:https://abortionactionmissouri.org/wp-content/uploads/2024/07/AAM-Cori-Canvass-Banner-August-5.png
END:VEVENT
BEGIN:VEVENT
DTSTART;TZID=UTC:20240808T180000
DTEND;TZID=UTC:20240808T190000
DTSTAMP:20260423T040249
CREATED:20240719T220021Z
LAST-MODIFIED:20240719T222558Z
UID:1207-1723140000-1723143600@abortionactionmissouri.org
SUMMARY:Community Engagement Escort Training - August 2024
DESCRIPTION:Community Engagement Escort Training – Thursday\, August 8\, 2024\n			\n				\n				\n				\n				\n				Prerequisite: Clinic Escort Training\n			\n			\n				\n				\n				\n				\n			\n				\n				\n				\n				\n				\n				\n				\n				\n				\n				\n				Abortion Action Missouri has led the way in Clinic Escorting for the St. Louis area for almost 40 years. We are excited to extend our escort program to include Community Engagement Escorting. Community Engagement Escorts are often requested to provide a safe presence for events\, political rallies\, and assistance at the capitol. Only those who have already taken AAM’s Clinic Escort Training will be allowed to attend a Community Engagement Escort Training. If you would like to volunteer as an escort outside of the traditional clinic setting\, this training is for you! Please join us on August 8th at 6:00 PM. \n			\n			\n				\n				\n				\n				\n			\n				\n				\n				\n				\n				\n				\n				REGISTER HERE!
URL:https://abortionactionmissouri.org/event/community-engagement-escort-training-august-2024/
LOCATION:TBD\, St. Louis\, Saint Louis\, MO\, United States
CATEGORIES:Clinic Escort Trainings,Community Engagement Escort Training
ATTACH;FMTTYPE=image/png:https://abortionactionmissouri.org/wp-content/uploads/2024/03/Community-Engagement-Escort-Training-Website-Banner.png
END:VEVENT
BEGIN:VEVENT
DTSTART;TZID=UTC:20240822T180000
DTEND;TZID=UTC:20240822T200000
DTSTAMP:20260423T040249
CREATED:20240819T195001Z
LAST-MODIFIED:20240819T195024Z
UID:1459-1724349600-1724356800@abortionactionmissouri.org
SUMMARY:Springfield Social Hour
DESCRIPTION:Springfield Social Hour – Thursday\, August 22\, 2024\n			\n				\n				\n				\n				\n				This event will be an opportunity for people in Springfield to learn about the total ban on abortion\, how people can take action to bring abortion access back to Missouri\, and how we can break the anti-abortion supermajority in the state legislature that created this cruel ban in the first place. Our new Springfield Organizer will be leading the event and is excited to connect with members of the community! \n Parking: While there is no parking at the venue\, people are encouraged to park in the parking garage across the street where the Springfield Public Schools Kraft Administration is (1359 E St Louis St\, Springfield\, MO 65802). \n			\n			\n				\n				\n				\n				\n			\n				\n				\n				\n				\n				\n				\n				REGISTER HERE!
URL:https://abortionactionmissouri.org/event/springfield-social-hour/
LOCATION:The Shoe Tree Listening Room\, 1342 East St. Louis Street\, Springfield\, 65804\, United States
CATEGORIES:Community Events
ATTACH;FMTTYPE=image/png:https://abortionactionmissouri.org/wp-content/uploads/2024/08/Springfield-Social-Hour-Banner.png
END:VEVENT
END:VCALENDAR