BEGIN:VCALENDAR
VERSION:2.0
PRODID:-//Abortion Action Missouri - ECPv6.15.20//NONSGML v1.0//EN
CALSCALE:GREGORIAN
METHOD:PUBLISH
X-WR-CALNAME:Abortion Action Missouri
X-ORIGINAL-URL:https://abortionactionmissouri.org
X-WR-CALDESC:Events for Abortion Action Missouri
REFRESH-INTERVAL;VALUE=DURATION:PT1H
X-Robots-Tag:noindex
X-PUBLISHED-TTL:PT1H
BEGIN:VTIMEZONE
TZID:UTC
BEGIN:STANDARD
TZOFFSETFROM:+0000
TZOFFSETTO:+0000
TZNAME:UTC
DTSTART:20220101T000000
END:STANDARD
END:VTIMEZONE
BEGIN:VEVENT
DTSTART;TZID=UTC:20260310T153000
DTEND;TZID=UTC:20260310T173000
DTSTAMP:20260420T123031
CREATED:20260224T153437Z
LAST-MODIFIED:20260225T193258Z
UID:3175-1773156600-1773163800@abortionactionmissouri.org
SUMMARY:Clinic Escort Training - St. Louis - March 2026
DESCRIPTION:
URL:https://abortionactionmissouri.org/event/clinic-escort-training-st-louis-march-2026/
LOCATION:TBD\, St. Louis\, Saint Louis\, MO\, United States
CATEGORIES:Clinic Escort Trainings
ATTACH;FMTTYPE=image/png:https://abortionactionmissouri.org/wp-content/uploads/2024/01/Clinic-Escort-Training-EA-Banner.png
END:VEVENT
BEGIN:VEVENT
DTSTART;TZID=UTC:20260218T180000
DTEND;TZID=UTC:20260218T200000
DTSTAMP:20260420T123031
CREATED:20260202T180936Z
LAST-MODIFIED:20260202T180942Z
UID:3126-1771437600-1771444800@abortionactionmissouri.org
SUMMARY:Clinic Escort Training - St. Louis - February 2026
DESCRIPTION:
URL:https://abortionactionmissouri.org/event/clinic-escort-training-st-louis-february-2026/
LOCATION:TBD\, St. Louis\, Saint Louis\, MO\, United States
CATEGORIES:Clinic Escort Trainings
ATTACH;FMTTYPE=image/png:https://abortionactionmissouri.org/wp-content/uploads/2024/01/Clinic-Escort-Training-EA-Banner.png
END:VEVENT
BEGIN:VEVENT
DTSTART;TZID=UTC:20260108T180000
DTEND;TZID=UTC:20260108T190000
DTSTAMP:20260420T123031
CREATED:20251209T162120Z
LAST-MODIFIED:20251215T184934Z
UID:3043-1767895200-1767898800@abortionactionmissouri.org
SUMMARY:Community Engagement Escort Training - St. Louis - January 2026
DESCRIPTION:
URL:https://abortionactionmissouri.org/event/community-engagement-escort-training-st-louis-january-2026/
LOCATION:TBD\, St. Louis\, Saint Louis\, MO\, United States
CATEGORIES:Clinic Escort Trainings,Community Engagement Escort Training
ATTACH;FMTTYPE=image/png:https://abortionactionmissouri.org/wp-content/uploads/2024/03/Community-Engagement-Escort-Training-Website-Banner.png
END:VEVENT
BEGIN:VEVENT
DTSTART;TZID=UTC:20260107T180000
DTEND;TZID=UTC:20260107T200000
DTSTAMP:20260420T123031
CREATED:20251209T144553Z
LAST-MODIFIED:20251209T160148Z
UID:3031-1767808800-1767816000@abortionactionmissouri.org
SUMMARY:Clinic Escort Training - St. Louis - January 2026
DESCRIPTION:
URL:https://abortionactionmissouri.org/event/clinic-escort-training-st-louis-january-2026/
LOCATION:TBD\, St. Louis\, Saint Louis\, MO\, United States
CATEGORIES:Clinic Escort Trainings
ATTACH;FMTTYPE=image/png:https://abortionactionmissouri.org/wp-content/uploads/2024/01/Clinic-Escort-Training-EA-Banner.png
END:VEVENT
BEGIN:VEVENT
DTSTART;TZID=UTC:20251106T180000
DTEND;TZID=UTC:20251106T200000
DTSTAMP:20260420T123031
CREATED:20251017T005755Z
LAST-MODIFIED:20251017T005802Z
UID:2849-1762452000-1762459200@abortionactionmissouri.org
SUMMARY:Clinic Escort Training - St. Louis - November 2025
DESCRIPTION:Thursday\, November 6\, 2025 – 6:00 PM – 8:00 PM \n\n			\n			\n				\n				\n				\n				\n			\n				\n				\n				\n				\n				\n				\n				\n				\n				\n				\n				Clinic Escorts will walk with you! With abortion access now available at limited clinics in Missouri\, we will need more Clinic Escorts than ever before! \nIn this training\, you will learn about how to provide the affirmation and sense of comfort every patient deserves as they walk to receive the care they want inside the clinic. While anyone 18 or older is welcome to attend\, we are specifically looking for volunteers with weekday availability. The training will be held in-person in St. Louis\, and the specific location will be disclosed after registration. \nSpace is limited to the first 40 sign-ups. \n			\n			\n				\n				\n				\n				\n			\n				\n				\n				\n				\n				\n				\n				REGISTER HERE!
URL:https://abortionactionmissouri.org/event/clinic-escort-training-november-2025/
LOCATION:TBD\, St. Louis\, Saint Louis\, MO\, United States
CATEGORIES:Clinic Escort Trainings
ATTACH;FMTTYPE=image/png:https://abortionactionmissouri.org/wp-content/uploads/2024/01/Clinic-Escort-Training-EA-Banner.png
END:VEVENT
BEGIN:VEVENT
DTSTART;TZID=UTC:20251007T180000
DTEND;TZID=UTC:20251007T200000
DTSTAMP:20260420T123031
CREATED:20250929T172136Z
LAST-MODIFIED:20250930T170545Z
UID:2780-1759860000-1759867200@abortionactionmissouri.org
SUMMARY:Clinic Escort Training - October 2025
DESCRIPTION:Tuesday\, October 7\, 2025 – 6:00 PM – 8:00 PM \n\n			\n			\n				\n				\n				\n				\n			\n				\n				\n				\n				\n				\n				\n				\n				\n				\n				\n				Clinic Escorts will walk with you! With abortion access now available at limited clinics in Missouri\, we will need more Clinic Escorts than ever before! \nIn this training\, you will learn about how to provide the affirmation and sense of comfort every patient deserves as they walk to receive the care they want inside the clinic. While anyone 18 or older is welcome to attend\, we are specifically looking for volunteers with weekday availability. The training will be held in-person in St. Louis\, and the specific location will be disclosed after registration. \nSpace is limited to the first 40 sign-ups. \n			\n			\n				\n				\n				\n				\n			\n				\n				\n				\n				\n				\n				\n				REGISTER HERE!
URL:https://abortionactionmissouri.org/event/clinic-escort-training-10-7/
LOCATION:TBD\, St. Louis\, Saint Louis\, MO\, United States
CATEGORIES:Clinic Escort Trainings
ATTACH;FMTTYPE=image/png:https://abortionactionmissouri.org/wp-content/uploads/2024/01/Clinic-Escort-Training-EA-Banner.png
END:VEVENT
BEGIN:VEVENT
DTSTART;TZID=UTC:20250513T140000
DTEND;TZID=UTC:20250513T160000
DTSTAMP:20260420T123031
CREATED:20250501T181053Z
LAST-MODIFIED:20250501T182823Z
UID:2507-1747144800-1747152000@abortionactionmissouri.org
SUMMARY:Clinic Escort Training - St. Louis - May 2025
DESCRIPTION:Tuesday\, May 13\, 2025 2:00 PM – 4:00 PM CT\n\n			\n			\n				\n				\n				\n				\n			\n				\n				\n				\n				\n				\n				\n				\n				\n				\n				\n				Clinic Escorts will walk with you! With abortion care now available at limited clinics\, we will need more clinic escorts than ever before! In this daytime training\, you will learn about how to provide the sense of safety and security every patient deserves as they walk to receive the care they want inside the clinic. While anyone 18 or older is welcome to attend\, we are specifically looking for volunteers with weekday availability. \nThe training will be held in-person in St. Louis\, and the specific location will be disclosed after registration. \nSpace is limited to the first 40 sign-ups. \n			\n			\n				\n				\n				\n				\n			\n				\n				\n				\n				\n				\n				\n				REGISTER HERE!
URL:https://abortionactionmissouri.org/event/clinic-escort-training-st-louis-may-2025/
LOCATION:TBD\, St. Louis\, Saint Louis\, MO\, United States
CATEGORIES:Clinic Escort Trainings
ATTACH;FMTTYPE=image/png:https://abortionactionmissouri.org/wp-content/uploads/2024/01/Clinic-Escort-Training-EA-Banner.png
END:VEVENT
BEGIN:VEVENT
DTSTART;TZID=UTC:20250206T180000
DTEND;TZID=UTC:20250206T200000
DTSTAMP:20260420T123031
CREATED:20250114T230341Z
LAST-MODIFIED:20250123T234350Z
UID:2077-1738864800-1738872000@abortionactionmissouri.org
SUMMARY:Clinic Escort Training - St. Louis - February 6\, 2025
DESCRIPTION:St. Louis – Thursday\, February 6\, 2025 – 6:00 PM – 8:00 PM\n\n			\n			\n				\n				\n				\n				\n			\n				\n				\n				\n				\n				\n				\n				\n				\n				\n				\n				Clinic Escorts will walk with you! With abortion access now enshrined in the Missouri constitution and clinics poised to open across our state\, we will need more clinic escorts than ever before! \nIn this Thursday\, February 6 training\, you will learn about how to provide the sense of safety and security every patient deserves as they walk to receive the care they want inside the clinic. While anyone 18 or older that is interested is welcome to attend\, we are specifically looking for volunteers with weekday availability. The training will be held in-person in St. Louis\, though the specific location will be disclosed after registration. \nSpace is limited to the first 30 sign-ups. \n			\n			\n				\n				\n				\n				\n			\n				\n				\n				\n				\n				\n				\n				REGISTER HERE!
URL:https://abortionactionmissouri.org/event/cet-february-6/
LOCATION:TBD\, St. Louis\, Saint Louis\, MO\, United States
CATEGORIES:Clinic Escort Trainings
ATTACH;FMTTYPE=image/png:https://abortionactionmissouri.org/wp-content/uploads/2024/01/Clinic-Escort-Training-EA-Banner.png
END:VEVENT
BEGIN:VEVENT
DTSTART;TZID=UTC:20250204T180000
DTEND;TZID=UTC:20250204T200000
DTSTAMP:20260420T123031
CREATED:20250114T225228Z
LAST-MODIFIED:20250114T225233Z
UID:2075-1738692000-1738699200@abortionactionmissouri.org
SUMMARY:Clinic Escort Training - St. Louis - February 4\, 2025
DESCRIPTION:St. Louis – Tuesday\, February 4\, 2025 – 6:00 PM – 8:00 PM\n\n			\n			\n				\n				\n				\n				\n			\n				\n				\n				\n				\n				\n				\n				\n				\n				\n				\n				Clinic Escorts will walk with you! With abortion access now enshrined in the Missouri constitution and clinics poised to open across our state\, we will need more clinic escorts than ever before! \nIn this Tuesday\, February 4 training\, you will learn about how to provide the sense of safety and security every patient deserves as they walk to receive the care they want inside the clinic. While anyone 18 or older that is interested is welcome to attend\, we are specifically looking for volunteers with weekday availability. The training will be held in-person in St. Louis\, though the specific location will be disclosed after registration. \nSpace is limited to the first 30 sign-ups. \n			\n			\n				\n				\n				\n				\n			\n				\n				\n				\n				\n				\n				\n				REGISTER HERE!
URL:https://abortionactionmissouri.org/event/cet-february-4/
LOCATION:TBD\, St. Louis\, Saint Louis\, MO\, United States
CATEGORIES:Clinic Escort Trainings
ATTACH;FMTTYPE=image/png:https://abortionactionmissouri.org/wp-content/uploads/2024/01/Clinic-Escort-Training-EA-Banner.png
END:VEVENT
BEGIN:VEVENT
DTSTART;TZID=UTC:20250129T173000
DTEND;TZID=UTC:20250129T200000
DTSTAMP:20260420T123031
CREATED:20250114T000925Z
LAST-MODIFIED:20250114T000931Z
UID:2072-1738171800-1738180800@abortionactionmissouri.org
SUMMARY:Clinic Escort and Community Engagement Escort Training - Columbia - January 2025
DESCRIPTION:Wednesday\, January 29\, 2025 5:30 PM –  8:00 PM\n\n			\n			\n				\n				\n				\n				\n			\n				\n				\n				\n				\n				\n				\n				\n				\n				\n				\n				With abortion access now enshrined in the Missouri Constitution and clinics poised to open across our state\, we will need more clinic escorts than ever before. That’s why we’re starting our Columbia Escort Training Program this year! In our combined Clinic Escort and Community Engagement Escort Training\, you will learn how to provide the sense of safety and security every patient deserves as they walk to receive the care they want inside the clinic as well as provide a safe presence for public events (political rallies\, days of action at the Capitol\, and LGBTQIA+ events). \nThis combined training will be held in-person and the specific location will be disclosed after registration. See you there! \nSpace is limited to the first 40 sign-ups. \n			\n			\n				\n				\n				\n				\n			\n				\n				\n				\n				\n				\n				\n				REGISTER HERE!
URL:https://abortionactionmissouri.org/event/cet-ceet-columbia-january-2025/
LOCATION:TBD\, Columbia\, MO\, Columbia\, MO\, United States
CATEGORIES:Clinic Escort Trainings,Community Engagement Escort Training
ATTACH;FMTTYPE=image/png:https://abortionactionmissouri.org/wp-content/uploads/2025/01/CET-CEET-Columbia-EA-Banner-FINAL.png
END:VEVENT
BEGIN:VEVENT
DTSTART;TZID=UTC:20241119T180000
DTEND;TZID=UTC:20241119T200000
DTSTAMP:20260420T123031
CREATED:20241112T161939Z
LAST-MODIFIED:20241112T162015Z
UID:1900-1732039200-1732046400@abortionactionmissouri.org
SUMMARY:Clinic Escort Training - November 19\, 2024
DESCRIPTION:Clinic Escorts will walk with you!\n\n			\n			\n				\n				\n				\n				\n			\n				\n				\n				\n				\n				\n				\n				\n				\n				\n				\n				With abortion access now enshrined in the Missouri constitution and clinics poised to open across our state\, we will need more clinic escorts than ever before! In this training\, you will learn about how to provide the sense of safety and security every patient deserves as they walk to receive the care they want inside the clinic. The training will be held in-person in St. Louis\, though the specific location will be disclosed ahead of the training date after registration. \nSpace is limited to the first 40 sign-ups. \n			\n			\n				\n				\n				\n				\n			\n				\n				\n				\n				\n				\n				\n				REGISTER HERE!
URL:https://abortionactionmissouri.org/event/clinic-escort-training-november-19-2024/
LOCATION:TBD\, St. Louis\, Saint Louis\, MO\, United States
CATEGORIES:Clinic Escort Trainings
ATTACH;FMTTYPE=image/png:https://abortionactionmissouri.org/wp-content/uploads/2024/01/Clinic-Escort-Training-EA-Banner.png
END:VEVENT
BEGIN:VEVENT
DTSTART;TZID=UTC:20240912T180000
DTEND;TZID=UTC:20240912T190000
DTSTAMP:20260420T123031
CREATED:20240809T133608Z
LAST-MODIFIED:20240809T133614Z
UID:1456-1726164000-1726167600@abortionactionmissouri.org
SUMMARY:Community Engagement Escort Training - September 2024
DESCRIPTION:Community Engagement Escort Training – Thursday\, September 12\, 2024\n			\n				\n				\n				\n				\n				Prerequisite: Clinic Escort Training\n			\n			\n				\n				\n				\n				\n			\n				\n				\n				\n				\n				\n				\n				\n				\n				\n				\n				Abortion Action Missouri has led the way in Clinic Escorting for the St. Louis area for almost 40 years. We are excited to extend our escort program to include Community Engagement Escorting. Community Engagement Escorts are often requested to provide a safe presence for events\, political rallies\, and assistance at the capitol. Only those who have already taken AAM’s Clinic Escort Training will be allowed to attend a Community Engagement Escort Training. If you would like to volunteer as an escort outside of the traditional clinic setting\, this training is for you! Please join us on August 8th at 6:00 PM. \n			\n			\n				\n				\n				\n				\n			\n				\n				\n				\n				\n				\n				\n				REGISTER HERE!
URL:https://abortionactionmissouri.org/event/community-engagement-escort-training-september-2024/
LOCATION:TBD\, St. Louis\, Saint Louis\, MO\, United States
CATEGORIES:Clinic Escort Trainings,Community Engagement Escort Training
ATTACH;FMTTYPE=image/png:https://abortionactionmissouri.org/wp-content/uploads/2024/03/Community-Engagement-Escort-Training-Website-Banner.png
END:VEVENT
BEGIN:VEVENT
DTSTART;TZID=UTC:20240808T180000
DTEND;TZID=UTC:20240808T190000
DTSTAMP:20260420T123031
CREATED:20240719T220021Z
LAST-MODIFIED:20240719T222558Z
UID:1207-1723140000-1723143600@abortionactionmissouri.org
SUMMARY:Community Engagement Escort Training - August 2024
DESCRIPTION:Community Engagement Escort Training – Thursday\, August 8\, 2024\n			\n				\n				\n				\n				\n				Prerequisite: Clinic Escort Training\n			\n			\n				\n				\n				\n				\n			\n				\n				\n				\n				\n				\n				\n				\n				\n				\n				\n				Abortion Action Missouri has led the way in Clinic Escorting for the St. Louis area for almost 40 years. We are excited to extend our escort program to include Community Engagement Escorting. Community Engagement Escorts are often requested to provide a safe presence for events\, political rallies\, and assistance at the capitol. Only those who have already taken AAM’s Clinic Escort Training will be allowed to attend a Community Engagement Escort Training. If you would like to volunteer as an escort outside of the traditional clinic setting\, this training is for you! Please join us on August 8th at 6:00 PM. \n			\n			\n				\n				\n				\n				\n			\n				\n				\n				\n				\n				\n				\n				REGISTER HERE!
URL:https://abortionactionmissouri.org/event/community-engagement-escort-training-august-2024/
LOCATION:TBD\, St. Louis\, Saint Louis\, MO\, United States
CATEGORIES:Clinic Escort Trainings,Community Engagement Escort Training
ATTACH;FMTTYPE=image/png:https://abortionactionmissouri.org/wp-content/uploads/2024/03/Community-Engagement-Escort-Training-Website-Banner.png
END:VEVENT
BEGIN:VEVENT
DTSTART;TZID=UTC:20240801T180000
DTEND;TZID=UTC:20240801T200000
DTSTAMP:20260420T123031
CREATED:20240710T203539Z
LAST-MODIFIED:20240719T221419Z
UID:1179-1722535200-1722542400@abortionactionmissouri.org
SUMMARY:Clinic Escort Training - St. Louis - August 2024
DESCRIPTION:Clinic Escorts will walk with you!\n\n			\n			\n				\n				\n				\n				\n			\n				\n				\n				\n				\n				\n				\n				\n				\n				\n				\n				If you are interested in learning about clinic escorting and how to get involved\, this is for you. We will learn about how to provide the sense of safety and security every patient deserves as they walk to receive the care they want inside the clinic. The location of the training in St. Louis will be disclosed closer to the date of the training and after registration. \n			\n			\n				\n				\n				\n				\n			\n				\n				\n				\n				\n				\n				\n				REGISTER HERE!
URL:https://abortionactionmissouri.org/event/clinic-escort-training-st-louis-august-2024/
LOCATION:TBD\, St. Louis\, Saint Louis\, MO\, United States
CATEGORIES:Clinic Escort Trainings
ATTACH;FMTTYPE=image/png:https://abortionactionmissouri.org/wp-content/uploads/2024/01/Clinic-Escort-Training-EA-Banner.png
END:VEVENT
BEGIN:VEVENT
DTSTART;TZID=UTC:20240711T180000
DTEND;TZID=UTC:20240711T190000
DTSTAMP:20260420T123031
CREATED:20240611T202213Z
LAST-MODIFIED:20240611T202857Z
UID:1102-1720720800-1720724400@abortionactionmissouri.org
SUMMARY:Community Engagement Escort Training - July 2024
DESCRIPTION:Community Engagement Escort Training – Thursday\, July 11\, 2024\nAbortion Action Missouri has led the way in Clinic Escorting for the St. Louis area for almost 40 years. We are excited to extend our escort program to include Community Engagement Escorting. Community Engagement Escorts are often requested to provide a safe presence for events\, political rallies\, and assistance at the capitol. Only those who have already taken AAM’s Clinic Escort Training will be allowed to attend a Community Engagement Escort Training. If you would like to volunteer as an escort outside of the traditional clinic setting\, this training is for you! Please join us on July 11th at 6pm.
URL:https://abortionactionmissouri.org/event/community-engagement-escort-training-july-2024/
LOCATION:TBD\, St. Louis\, Saint Louis\, MO\, United States
CATEGORIES:Clinic Escort Trainings,Community Engagement Escort Training
ATTACH;FMTTYPE=image/png:https://abortionactionmissouri.org/wp-content/uploads/2024/03/Community-Engagement-Escort-Training-Website-Banner.png
END:VEVENT
BEGIN:VEVENT
DTSTART;TZID=UTC:20240709T180000
DTEND;TZID=UTC:20240709T200000
DTSTAMP:20260420T123031
CREATED:20240611T195458Z
LAST-MODIFIED:20240611T195458Z
UID:1104-1720548000-1720555200@abortionactionmissouri.org
SUMMARY:Clinic Escort Training - St. Louis - July 2024
DESCRIPTION:Clinic Escorts will walk with you!\nIf you are interested in learning about clinic escorting and how to get involved\, this is for you. We will learn about how to provide the sense of safety and security every patient deserves as they walk to receive the care they want inside the clinic. The location of the training in St. Louis will be disclosed closer to the date of the training but it will be in person.
URL:https://abortionactionmissouri.org/event/clinic-escort-training-st-louis-july-2024/
LOCATION:TBD\, St. Louis\, Saint Louis\, MO\, United States
CATEGORIES:Clinic Escort Trainings
ATTACH;FMTTYPE=image/png:https://abortionactionmissouri.org/wp-content/uploads/2024/01/Clinic-Escort-Training-EA-Banner.png
END:VEVENT
BEGIN:VEVENT
DTSTART;TZID=UTC:20240523T180000
DTEND;TZID=UTC:20240523T200000
DTSTAMP:20260420T123031
CREATED:20240429T210306Z
LAST-MODIFIED:20240429T210306Z
UID:948-1716487200-1716494400@abortionactionmissouri.org
SUMMARY:Community Engagement Escort Training - April 2024
DESCRIPTION:Community Engagement Escort Training – Thursday\, May 23\, 2024\nAbortion Action Missouri has led the way in Clinic Escorting for the St. Louis area for almost 40 years. We are excited to extend our escort program to include Community Engagement Escorting. Community Engagement Escorts are often requested to provide a safe presence for events\, political rallies\, and assistance at the capitol. Only those who have already taken AAM’s Clinic Escort Training will be allowed to attend a Community Engagement Escort Training. If you would like to volunteer as an escort outside of the traditional clinic setting\, this training is for you! Please join us on May 23rd at 6pm.
URL:https://abortionactionmissouri.org/event/community-engagement-escort-training-april-2024/
LOCATION:TBD\, St. Louis\, Saint Louis\, MO\, United States
CATEGORIES:Clinic Escort Trainings,Community Engagement Escort Training
ATTACH;FMTTYPE=image/png:https://abortionactionmissouri.org/wp-content/uploads/2024/03/Community-Engagement-Escort-Training-Website-Banner.png
END:VEVENT
BEGIN:VEVENT
DTSTART;TZID=UTC:20240521T180000
DTEND;TZID=UTC:20240521T200000
DTSTAMP:20260420T123031
CREATED:20240416T184730Z
LAST-MODIFIED:20240416T190003Z
UID:921-1716314400-1716321600@abortionactionmissouri.org
SUMMARY:Clinic Escort Training - St. Louis - May 2024
DESCRIPTION:Clinic Escorts will walk with you!\nIf you are interested in learning about clinic escorting and how to get involved\, this is for you. We will learn about how to provide the sense of safety and security every patient deserves as they walk to receive the care they want inside the clinic. The location of the training in St. Louis will be disclosed closer to the date of the training but it will be in person.
URL:https://abortionactionmissouri.org/event/clinic-escort-training-st-louis-may-2024/
LOCATION:TBD\, St. Louis\, Saint Louis\, MO\, United States
CATEGORIES:Clinic Escort Trainings
ATTACH;FMTTYPE=image/png:https://abortionactionmissouri.org/wp-content/uploads/2024/01/Clinic-Escort-Training-EA-Banner.png
END:VEVENT
BEGIN:VEVENT
DTSTART;TZID=UTC:20240409T180000
DTEND;TZID=UTC:20240409T200000
DTSTAMP:20260420T123031
CREATED:20240314T133219Z
LAST-MODIFIED:20240314T142034Z
UID:908-1712685600-1712692800@abortionactionmissouri.org
SUMMARY:Community Engagement Escort Training - April 2024
DESCRIPTION:Community Engagement Escort Training – Tuesday\, April 9\, 2024\nAbortion Action Missouri has led the way in Clinic Escorting for the St. Louis area for almost 40 years. We are excited to extend our escort program to include Community Engagement Escorting. Community Engagement Escorts are often requested to provide a safe presence for events\, political rallies\, and assistance at the capitol. Only those who have already taken AAM’s Clinic Escort Training will be allowed to attend a Community Engagement Escort Training. If you would like to volunteer as an escort outside of the traditional clinic setting\, this training is for you! Please join us on April 9th at 6pm.
URL:https://abortionactionmissouri.org/event/community-engagement-escort-training-april/
CATEGORIES:Clinic Escort Trainings,Community Engagement Escort Training
ATTACH;FMTTYPE=image/png:https://abortionactionmissouri.org/wp-content/uploads/2024/03/Community-Engagement-Escort-Training-Website-Banner.png
END:VEVENT
BEGIN:VEVENT
DTSTART;TZID=UTC:20240402T180000
DTEND;TZID=UTC:20240402T200000
DTSTAMP:20260420T123031
CREATED:20240318T210354Z
LAST-MODIFIED:20240318T210354Z
UID:910-1712080800-1712088000@abortionactionmissouri.org
SUMMARY:Clinic Escort Training - St. Louis - April 2024
DESCRIPTION:Clinic Escorts will walk with you!\nIf you are interested in learning about clinic escorting and how to get involved\, this is for you. We will learn about how to provide the sense of safety and security every patient deserves as they walk to receive the care they want inside the clinic. The location of the training in St. Louis will be disclosed closer to the date of the training but it will be in person.
URL:https://abortionactionmissouri.org/event/clinic-escort-training-st-louis-april-2024/
CATEGORIES:Clinic Escort Trainings
ATTACH;FMTTYPE=image/png:https://abortionactionmissouri.org/wp-content/uploads/2024/01/Clinic-Escort-Training-EA-Banner.png
END:VEVENT
BEGIN:VEVENT
DTSTART;TZID=UTC:20240307T180000
DTEND;TZID=UTC:20240307T200000
DTSTAMP:20260420T123031
CREATED:20240301T161637Z
LAST-MODIFIED:20240301T161956Z
UID:854-1709834400-1709841600@abortionactionmissouri.org
SUMMARY:Community Engagement Escort Training
DESCRIPTION:Community Engagement Escort Training – Thursday\, March 7\, 2024\nAbortion Action Missouri has led the way in Clinic Escorting for the St. Louis area for almost 40 years. We are excited to extend our escort program to include Community Engagement Escorting. Community Engagement Escorts are often requested to provide a safe presence for events\, political rallies\, and assistance at the capitol. Only those who have already taken AAM’s Clinic Escort Training will be allowed to attend a Community Engagement Escort Training. If you would like to volunteer as an escort outside of the traditional clinic setting\, this training is for you! Please join us on March 7th at 6pm.
URL:https://abortionactionmissouri.org/event/community-engagement-escort-training/
ATTACH;FMTTYPE=image/png:https://abortionactionmissouri.org/wp-content/uploads/2024/03/Community-Engagement-Escort-Training-Website-Banner.png
END:VEVENT
BEGIN:VEVENT
DTSTART;TZID=UTC:20240305T180000
DTEND;TZID=UTC:20240305T200000
DTSTAMP:20260420T123031
CREATED:20240216T142241Z
LAST-MODIFIED:20240216T142750Z
UID:802-1709661600-1709668800@abortionactionmissouri.org
SUMMARY:Clinic Escort Training - St. Louis - March 2024
DESCRIPTION:Clinic Escorts will walk with you!\nIf you are interested in learning about clinic escorting and how to get involved\, this is for you. We will learn about how to provide the sense of safety and security every patient deserves as they walk to receive the care they want inside the clinic. The location of the training in St. Louis will be disclosed closer to the date of the training but it will be in person.
URL:https://abortionactionmissouri.org/event/clinic-escort-training-st-louis-march-2024/
ATTACH;FMTTYPE=image/png:https://abortionactionmissouri.org/wp-content/uploads/2024/01/Clinic-Escort-Training-EA-Banner.png
END:VEVENT
BEGIN:VEVENT
DTSTART;TZID=UTC:20240229T180000
DTEND;TZID=UTC:20240229T200000
DTSTAMP:20260420T123031
CREATED:20240216T141902Z
LAST-MODIFIED:20240216T143020Z
UID:839-1709229600-1709236800@abortionactionmissouri.org
SUMMARY:Clinic Escort Training - Kansas City - February 2024
DESCRIPTION:Join us for our first Clinic Escort Training in Kansas City!\nClinic Escorts will walk with you! If you are interested in learning about clinic escorting and how to get involved\, this is for you. We will learn about how to provide the sense of safety and security every patient deserves as they walk to receive the care they want inside the clinic. The location of the training will be disclosed closer to the date of the training but it will be in person.
URL:https://abortionactionmissouri.org/event/clinic-escort-training-kansas-city-february-2024/
CATEGORIES:Clinic Escort Trainings
ATTACH;FMTTYPE=image/png:https://abortionactionmissouri.org/wp-content/uploads/2024/01/Clinic-Escort-Training-EA-Banner.png
END:VEVENT
BEGIN:VEVENT
DTSTART;TZID=UTC:20240220T180000
DTEND;TZID=UTC:20240220T180000
DTSTAMP:20260420T123031
CREATED:20240124T163036Z
LAST-MODIFIED:20240216T143205Z
UID:801-1708452000-1708452000@abortionactionmissouri.org
SUMMARY:Clinic Escort Training - St. Louis - February 2024
DESCRIPTION:Clinic Escorts will walk with you!\nIf you are interested in learning about clinic escorting and how to get involved\, this is for you. We will learn about how to provide the sense of safety and security every patient deserves as they walk to receive the care they want inside the clinic. The location of the training will be disclosed closer to the date of the training but it will be in person.
URL:https://abortionactionmissouri.org/event/clinic-escort-training-february-2024/
CATEGORIES:Clinic Escort Trainings
ATTACH;FMTTYPE=image/png:https://abortionactionmissouri.org/wp-content/uploads/2024/01/Clinic-Escort-Training-EA-Banner.png
END:VEVENT
BEGIN:VEVENT
DTSTART;TZID=UTC:20230919T180000
DTEND;TZID=UTC:20230919T200000
DTSTAMP:20260420T123031
CREATED:20230911T151828Z
LAST-MODIFIED:20230911T151828Z
UID:633-1695146400-1695153600@abortionactionmissouri.org
SUMMARY:Join a training to become a Clinic Escort
DESCRIPTION:Attend our clinic escort training on September 19th! Want to join our growing\, vibrant team of clinic escorts in St. Louis? This in-person\, two hour training will equip you with the information and skills needed to safely and effectively escort patients to their appointments.
URL:https://abortionactionmissouri.org/event/join-a-training-to-become-a-clinic-escort/
END:VEVENT
END:VCALENDAR