BEGIN:VCALENDAR
VERSION:2.0
PRODID:-//Abortion Action Missouri - ECPv6.15.20//NONSGML v1.0//EN
CALSCALE:GREGORIAN
METHOD:PUBLISH
X-WR-CALNAME:Abortion Action Missouri
X-ORIGINAL-URL:https://abortionactionmissouri.org
X-WR-CALDESC:Events for Abortion Action Missouri
REFRESH-INTERVAL;VALUE=DURATION:PT1H
X-Robots-Tag:noindex
X-PUBLISHED-TTL:PT1H
BEGIN:VTIMEZONE
TZID:UTC
BEGIN:STANDARD
TZOFFSETFROM:+0000
TZOFFSETTO:+0000
TZNAME:UTC
DTSTART:20230101T000000
END:STANDARD
END:VTIMEZONE
BEGIN:VEVENT
DTSTART;TZID=UTC:20241212T160000
DTEND;TZID=UTC:20241212T190000
DTSTAMP:20260419T143006
CREATED:20241122T215030Z
LAST-MODIFIED:20241210T150324Z
UID:2005-1734019200-1734030000@abortionactionmissouri.org
SUMMARY:AAM Holiday Open House
DESCRIPTION:Thursday\, December 12 – 4:00PM – 7:00PM\n			\n				\n				\n				\n				\n				Please join the Abortion Action Missouri team and board leadership for an open house to kick off the holiday season\, celebrate the wins of 2024\, and enjoy our new permanent office space. \nLocation will be provided upon RSVP. \n			\n			\n				\n				\n				\n				\n			\n				\n				\n				\n				\n				\n				\n				REGISTER HERE!
URL:https://abortionactionmissouri.org/event/holiday-open-house/
LOCATION:TBD\, St. Louis\, Saint Louis\, MO\, United States
CATEGORIES:Community Events
ATTACH;FMTTYPE=image/png:https://abortionactionmissouri.org/wp-content/uploads/2024/11/AAM-Holiday-Open-House-EA-Banner-FINAL-1.png
END:VEVENT
END:VCALENDAR