BEGIN:VCALENDAR
VERSION:2.0
PRODID:-//Abortion Action Missouri - ECPv6.15.20//NONSGML v1.0//EN
CALSCALE:GREGORIAN
METHOD:PUBLISH
X-WR-CALNAME:Abortion Action Missouri
X-ORIGINAL-URL:https://abortionactionmissouri.org
X-WR-CALDESC:Events for Abortion Action Missouri
REFRESH-INTERVAL;VALUE=DURATION:PT1H
X-Robots-Tag:noindex
X-PUBLISHED-TTL:PT1H
BEGIN:VTIMEZONE
TZID:UTC
BEGIN:STANDARD
TZOFFSETFROM:+0000
TZOFFSETTO:+0000
TZNAME:UTC
DTSTART:20240101T000000
END:STANDARD
END:VTIMEZONE
BEGIN:VEVENT
DTSTART;TZID=UTC:20250716T180000
DTEND;TZID=UTC:20250716T193000
DTSTAMP:20260420T150215
CREATED:20250626T233255Z
LAST-MODIFIED:20250626T233302Z
UID:2563-1752688800-1752694200@abortionactionmissouri.org
SUMMARY:Destigmatizing Abortion Through Television: Screening and Discussion to Bring Abortion Conversations into Missouri Living Rooms - West County
DESCRIPTION:West St. Louis County – Wednesday\, July 16\, 2025 6:00 PM – 7:30 PM\n			\n				\n				\n				\n				\n				The media we take in helps fundamentally craft our view of the world\, and in our fight for reproductive freedom\, it becomes a powerful tool in prompting open dialogue about abortion\, reproductive and sexual health. \nIn this screening and discussion\, we’ll be watching several examples of authentic\, nuanced abortion stories told through contemporary television followed by a group discussion analyzing our own biases\, beliefs\, and experiences. We will also be offering advice on how to host your own screening to invite others into these critical conversations as we prepare to defend Missouri abortion rights and stop another abortion ban in 2026. \n			\n			\n				\n				\n				\n				\n			\n				\n				\n				\n				\n				\n				\n				REGISTER HERE!
URL:https://abortionactionmissouri.org/event/destigmatizing-abortion-through-television/
LOCATION:UFCW 655\, 300 Weidman Rd\, Manchester\, 63011\, United States
CATEGORIES:AAM Member Events,Community Events
ATTACH;FMTTYPE=image/png:https://abortionactionmissouri.org/wp-content/uploads/2025/06/Destigmatizing-Abortion-Through-Television-EA-Banner.png
END:VEVENT
END:VCALENDAR