BEGIN:VCALENDAR
VERSION:2.0
PRODID:-//Abortion Action Missouri - ECPv6.15.20//NONSGML v1.0//EN
CALSCALE:GREGORIAN
METHOD:PUBLISH
X-ORIGINAL-URL:https://abortionactionmissouri.org
X-WR-CALDESC:Events for Abortion Action Missouri
REFRESH-INTERVAL;VALUE=DURATION:PT1H
X-Robots-Tag:noindex
X-PUBLISHED-TTL:PT1H
BEGIN:VTIMEZONE
TZID:UTC
BEGIN:STANDARD
TZOFFSETFROM:+0000
TZOFFSETTO:+0000
TZNAME:UTC
DTSTART:20240101T000000
END:STANDARD
END:VTIMEZONE
BEGIN:VEVENT
DTSTART;TZID=UTC:20251016T180000
DTEND;TZID=UTC:20251016T193000
DTSTAMP:20260421T013649
CREATED:20251002T170336Z
LAST-MODIFIED:20251009T163123Z
UID:2800-1760637600-1760643000@abortionactionmissouri.org
SUMMARY:St. Charles Base Meeting - October 2025
DESCRIPTION:Thursday\, October 16\, 2025 – 6:00 PM – 7:30 PM\n			\n				\n				\n				\n				\n				Join us to hear important updates on our fight against the legislature’s gerrymandering scheme (including a training on how to gather signatures for the citizen’s veto of the newly drawn maps)! We will also be discussing the attacks on the initiative petition process\, and our ongoing work to defend abortion rights and reproductive freedom against the abortion ban ballot measure. \n			\n			\n				\n				\n				\n				\n			\n				\n				\n				\n				\n				\n				\n				REGISTER HERE!
URL:https://abortionactionmissouri.org/event/st-charles-base-meeting-october-2025/
LOCATION:Kathryn Linnemann Library\, Room A\, 2323 Elm St\, St. Charles\, MO\, 63301\, United States
CATEGORIES:AAM Member Events
ATTACH;FMTTYPE=image/png:https://abortionactionmissouri.org/wp-content/uploads/2024/11/St.-Charles-December-Base-Meeting-EA-Banner.png
END:VEVENT
BEGIN:VEVENT
DTSTART;TZID=UTC:20251021T183000
DTEND;TZID=UTC:20251021T193000
DTSTAMP:20260421T013649
CREATED:20251008T210510Z
LAST-MODIFIED:20251008T210704Z
UID:2817-1761071400-1761075000@abortionactionmissouri.org
SUMMARY:At-Large Organizing Base Meeting - Virtual - Tuesday\, October 21
DESCRIPTION:Tuesday\, October 21\, 2025 – 6:30 PM – 7:30 PM CT\n			\n				\n				\n				\n				\n				Join us to take action with fellow reproductive freedom supporters all around Missouri! \nYou will receive updates on what has happened in the legislature in the last several months and learn ways that we can fight back as a movement against these attacks on our bodies and democracy. \nAt-Large base meetings are specifically designed for Missourians outside of AAM’s organizing regions (West St. Louis County\, St. Charles\, Kansas City\, Columbia\, Springfield) to get updates and learn about how to take Abortion Action from anywhere in the state. \n			\n			\n				\n				\n				\n				\n			\n				\n				\n				\n				\n				\n				\n				REGISTER HERE!
URL:https://abortionactionmissouri.org/event/at-large-organizing-base-meeting-virtual-10-21/
LOCATION:Virtual
CATEGORIES:AAM Member Events
ATTACH;FMTTYPE=image/png:https://abortionactionmissouri.org/wp-content/uploads/2025/03/At-Large-Base-Meetings-EA-Banner-FINAL.png
END:VEVENT
BEGIN:VEVENT
DTSTART;TZID=UTC:20251026T103000
DTEND;TZID=UTC:20251026T140000
DTSTAMP:20260421T013649
CREATED:20251001T155934Z
LAST-MODIFIED:20251001T155942Z
UID:2701-1761474600-1761487200@abortionactionmissouri.org
SUMMARY:How to Have Organizing Conversations Training - Springfield - Sunday\, October 26
DESCRIPTION:Sunday\, October 26\, 2025 – 10:30 AM – 2:00 PM \n			\n				\n				\n				\n				\n				For complex topics like abortion and the full spectrum of sexual and reproductive health\, knowing how to have deep\, thoughtful conversations regardless of someone’s personal beliefs is a cornerstone to propelling stigma-busting narratives and education. \nIn this training\, we will be exploring how to initiate deliberate dialogue with our families\, friends\, neighbors\, and acquaintances about their perspectives on abortion. These conversations will help us build the support we need to stop another abortion ban and hold anti-abortion politicians accountable. Join us! \n			\n			\n				\n				\n				\n				\n			\n				\n				\n				\n				\n				\n				\n				REGISTER HERE!
URL:https://abortionactionmissouri.org/event/how-to-have-organizing-conversations-sgf-10-26/
LOCATION:National Avenue Christian Church\, 1515 S National Ave\, Springfield\, 65804\, United States
CATEGORIES:AAM Member Events
ATTACH;FMTTYPE=image/png:https://abortionactionmissouri.org/wp-content/uploads/2025/08/Springfield-Organizing-Conversations-Training-EA-Banner-FINAL.png
END:VEVENT
BEGIN:VEVENT
DTSTART;TZID=UTC:20251026T140000
DTEND;TZID=UTC:20251026T170000
DTSTAMP:20260421T013649
CREATED:20250929T171145Z
LAST-MODIFIED:20251014T145310Z
UID:2775-1761487200-1761498000@abortionactionmissouri.org
SUMMARY:How to Have Organizing Conversations - Hannibal SD 18
DESCRIPTION:Sunday\, October 26\, 2025 2:00 PM – 5:00 PM \n			\n				\n				\n				\n				\n				For complex topics like abortion and the full spectrum of sexual and reproductive health\, knowing how to have deep\, thoughtful conversations regardless of someone’s personal beliefs is a cornerstone to propelling stigma-busting narratives and education. \nWe’re taking our How to Have Organizing Conversations Training to Hannibal! We’ll be exploring how to initiate deliberate dialogue with our families\, friends\, neighbors\, and acquaintances about their perspectives on abortion. These conversations will help us build the support we need to stop another abortion ban and hold anti-abortion politicians accountable. Join us! \n			\n			\n				\n				\n				\n				\n			\n				\n				\n				\n				\n				\n				\n				REGISTER HERE!
URL:https://abortionactionmissouri.org/event/oc-training-hannibal/
LOCATION:Bluff City Theater\, 212 Broadway\, Hannibal\, 63401\, United States
CATEGORIES:AAM Member Events
ATTACH;FMTTYPE=image/png:https://abortionactionmissouri.org/wp-content/uploads/2025/09/Hannibal-Organizing-Conversations-Training-EA-Banner.png
END:VEVENT
BEGIN:VEVENT
DTSTART;TZID=UTC:20251104T183000
DTEND;TZID=UTC:20251104T193000
DTSTAMP:20260421T013649
CREATED:20251021T185727Z
LAST-MODIFIED:20251021T185734Z
UID:2865-1762281000-1762284600@abortionactionmissouri.org
SUMMARY:At-Large Organizing Base Meeting - Tuesday\, November 4
DESCRIPTION:Tuesday\, November 4\, 2025 6:30 PM – 7:30 PM CT\n			\n				\n				\n				\n				\n				Join Abortion Action Missouri’s At-Large Base Meeting to receive updates on corrupt politicians’ current attacks on our rights and to learn ways that we can fight back as a movement to protect legal abortion and reproductive freedom. \nAt-Large base meetings are specifically designed for Missourians outside of AAM’s organizing regions (West St. Louis County\, St. Charles\, Kansas City\, Columbia\, Springfield) to get updates and learn about how to take Abortion Action from anywhere in the state. \n			\n			\n				\n				\n				\n				\n			\n				\n				\n				\n				\n				\n				\n				REGISTER HERE!
URL:https://abortionactionmissouri.org/event/at-large-base-11-4/
LOCATION:Virtual
CATEGORIES:AAM Member Events
ATTACH;FMTTYPE=image/png:https://abortionactionmissouri.org/wp-content/uploads/2025/03/At-Large-Base-Meetings-EA-Banner-FINAL.png
END:VEVENT
BEGIN:VEVENT
DTSTART;TZID=UTC:20251112T180000
DTEND;TZID=UTC:20251112T193000
DTSTAMP:20260421T013649
CREATED:20251028T194837Z
LAST-MODIFIED:20251028T194843Z
UID:2895-1762970400-1762975800@abortionactionmissouri.org
SUMMARY:St. Louis County Base Meeting - November 2025
DESCRIPTION:Wednesday\, November 12\, 2025 6:00 PM – 7:30 PM\n			\n				\n				\n				\n				\n				Don’t miss our St. Louis County base’s last meeting of the year! \nIn this meeting\, we’ll be focusing on our strategy trajectory for 2026 and how to expand the movement to defend abortion access and reproductive freedom to make it happen. You will get the most current updates about the attacks by corrupt politicians on Missouri’s legal abortion\, plug into what we’re doing to fight back right now\, and get the exclusive opportunity to be one of the first to have a new NO on 3 yard sign\, because in 2026\, a NO vote will keep abortion legal. \n			\n			\n				\n				\n				\n				\n			\n				\n				\n				\n				\n				\n				\n				REGISTER HERE!
URL:https://abortionactionmissouri.org/event/st-louis-county-base-meeting-november-2025/
LOCATION:UFCW 655\, 300 Weidman Rd\, Manchester\, 63011\, United States
CATEGORIES:AAM Member Events
ATTACH;FMTTYPE=image/png:https://abortionactionmissouri.org/wp-content/uploads/2025/09/St.-Louis-County-Base-Meeting-EA-Banner-2025.png
END:VEVENT
BEGIN:VEVENT
DTSTART;TZID=UTC:20251118T183000
DTEND;TZID=UTC:20251118T193000
DTSTAMP:20260421T013649
CREATED:20251105T211001Z
LAST-MODIFIED:20251105T211011Z
UID:2941-1763490600-1763494200@abortionactionmissouri.org
SUMMARY:At-Large Organizing Base Meeting - Tuesday\, November 18
DESCRIPTION:Tuesday\, November 18\, 2025 – 6:30 PM – 7:30 PM CT\n			\n				\n				\n				\n				\n				Join Abortion Action Missouri’s At-Large Base Meeting to receive updates on corrupt politicians’ current attacks on our rights and to learn ways that we can fight back as a movement to protect legal abortion and reproductive freedom. \nAt-Large base meetings are specifically designed for Missourians outside of AAM’s organizing regions (West St. Louis County\, St. Charles\, Kansas City\, Columbia\, Springfield) to get updates and learn about how to take Abortion Action from anywhere in the state. \n			\n			\n				\n				\n				\n				\n			\n				\n				\n				\n				\n				\n				\n				REGISTER HERE!
URL:https://abortionactionmissouri.org/event/at-large-base-meeting-11-18/
LOCATION:Virtual
CATEGORIES:AAM Member Events
ATTACH;FMTTYPE=image/png:https://abortionactionmissouri.org/wp-content/uploads/2025/03/At-Large-Base-Meetings-EA-Banner-FINAL.png
END:VEVENT
BEGIN:VEVENT
DTSTART;TZID=UTC:20251120T180000
DTEND;TZID=UTC:20251120T193000
DTSTAMP:20260421T013649
CREATED:20251112T144239Z
LAST-MODIFIED:20251112T144313Z
UID:2965-1763661600-1763667000@abortionactionmissouri.org
SUMMARY:St. Charles Base Meeting - November 2025
DESCRIPTION:Thursday\, November 20\, 2025 – 6:00 PM – 7:30 PM\n			\n				\n				\n				\n				\n				Don’t miss our St. Charles County base’s last meeting of the year! \nIn this meeting\, we’ll be focusing on our strategy trajectory for 2026 and how to expand the movement to defend abortion access and reproductive freedom to make it happen. You will get the most current updates about the attacks by corrupt politicians on Missouri’s legal abortion\, plug into what we’re doing to fight back right now\, and get the exclusive opportunity to be one of the first to have a new NO on 3 yard sign\, because in 2026\, a NO vote will keep abortion legal. \n			\n			\n				\n				\n				\n				\n			\n				\n				\n				\n				\n				\n				\n				REGISTER HERE!
URL:https://abortionactionmissouri.org/event/st-charles-base-meeting-11-20/
LOCATION:Spencer Road Libarary @ The Commons\, 2nd Fl\, Room M\, 427 Spencer Rd\, Saint Peters\, 63376\, United States
CATEGORIES:AAM Member Events
ATTACH;FMTTYPE=image/png:https://abortionactionmissouri.org/wp-content/uploads/2024/11/St.-Charles-December-Base-Meeting-EA-Banner.png
END:VEVENT
BEGIN:VEVENT
DTSTART;TZID=UTC:20251202T183000
DTEND;TZID=UTC:20251202T193000
DTSTAMP:20260421T013649
CREATED:20251118T195322Z
LAST-MODIFIED:20251118T195328Z
UID:2977-1764700200-1764703800@abortionactionmissouri.org
SUMMARY:At-Large Organizing Base Meeting - Tuesday\, December 2
DESCRIPTION:Tuesday\, December 2\, 2025 – 6:30 PM – 7:30 PM CT\n			\n				\n				\n				\n				\n				Don’t miss our At-Large base’s last meeting of the year!  \nJoin Abortion Action Missouri’s At-Large Base Meeting to receive updates on corrupt politicians’ current attacks on our rights and to learn ways that we can fight back as a movement to protect legal abortion and reproductive freedom. \nAt-Large base meetings are specifically designed for Missourians outside of AAM’s organizing regions (West St. Louis County\, St. Charles\, Kansas City\, Columbia\, Springfield) to get updates and learn about how to take Abortion Action from anywhere in the state. \n			\n			\n				\n				\n				\n				\n			\n				\n				\n				\n				\n				\n				\n				REGISTER HERE!
URL:https://abortionactionmissouri.org/event/at-large-base-meeting-12-2/
LOCATION:Virtual
CATEGORIES:AAM Member Events
ATTACH;FMTTYPE=image/png:https://abortionactionmissouri.org/wp-content/uploads/2025/03/At-Large-Base-Meetings-EA-Banner-FINAL.png
END:VEVENT
BEGIN:VEVENT
DTSTART;TZID=UTC:20251203T180000
DTEND;TZID=UTC:20251203T193000
DTSTAMP:20260421T013649
CREATED:20251118T232906Z
LAST-MODIFIED:20251118T232912Z
UID:2980-1764784800-1764790200@abortionactionmissouri.org
SUMMARY:Mid-Missouri Base Meeting - December 2025
DESCRIPTION:Wednesday\, December 3\, 2025 – 6:00 PM – 7:30 PM\n			\n				\n				\n				\n				\n				Don’t miss our Mid-Missouri base’s last meeting of the year! \nIn this meeting\, we’ll be focusing on our strategy trajectory for 2026 and how to expand the movement to defend abortion access and reproductive freedom to make it happen. You will get the most current updates about the attacks by corrupt politicians on Missouri’s legal abortion and plug into what we’re doing to fight back next year. \nWe’ll also be giving you the exclusive opportunity to be one of the first to have a new NO on 3 yard sign\, because in 2026\, a NO vote will keep abortion legal. \n			\n			\n				\n				\n				\n				\n			\n				\n				\n				\n				\n				\n				\n				REGISTER HERE!
URL:https://abortionactionmissouri.org/event/mid-mo-base-meeting-december-2025/
LOCATION:LiUNA Union Hall\, 404 Tiger Ln\, Columbia\, MO\, 65203\, United States
CATEGORIES:AAM Member Events
ATTACH;FMTTYPE=image/png:https://abortionactionmissouri.org/wp-content/uploads/2025/03/Mid-MO-Base-Meeting-EA-Banner.png
END:VEVENT
BEGIN:VEVENT
DTSTART;TZID=UTC:20251211T170000
DTEND;TZID=UTC:20251211T180000
DTSTAMP:20260421T013649
CREATED:20251124T222540Z
LAST-MODIFIED:20251124T222546Z
UID:2989-1765472400-1765476000@abortionactionmissouri.org
SUMMARY:Springfield Base Meeting - December 2025
DESCRIPTION:Thursday\, December 11\, 2025 – 5:00 PM – 6:00 PM \n			\n				\n				\n				\n				\n				Don’t miss our Springfield base’s last meeting of the year! \nIn this meeting\, we’ll be focusing on our strategy trajectory for 2026 and how to expand the movement to defend abortion access and reproductive freedom to make it happen. You will get the most current updates about the attacks by corrupt politicians on Missouri’s legal abortion and plug into what we’re doing to fight back next year. \nWe’ll also be giving you the exclusive opportunity to be one of the first to have a new NO on 3 yard sign\, because in 2026\, a NO vote will keep abortion legal. \n			\n			\n				\n				\n				\n				\n			\n				\n				\n				\n				\n				\n				\n				REGISTER HERE!
URL:https://abortionactionmissouri.org/event/springfield-base-meeting-december-2025/
LOCATION:Midtown Carnegie Branch Library\, 397 E Central St\, Springfield\, MO\, 65804\, United States
CATEGORIES:AAM Member Events
ATTACH;FMTTYPE=image/png:https://abortionactionmissouri.org/wp-content/uploads/2025/01/SGF-Base-Meeting-EA-Banner-2025-FINAL.png
END:VEVENT
BEGIN:VEVENT
DTSTART;TZID=UTC:20251211T180000
DTEND;TZID=UTC:20251211T193000
DTSTAMP:20260421T013649
CREATED:20251117T155239Z
LAST-MODIFIED:20251117T155246Z
UID:2973-1765476000-1765481400@abortionactionmissouri.org
SUMMARY:Kansas City Base Meeting - December 2025
DESCRIPTION:Thursday\, December 11\, 2025 – 6:00 PM – 7:30 PM\n			\n				\n				\n				\n				\n				Don’t miss our Kansas City base’s last meeting of the year! \nIn this meeting\, we’ll be focusing on our strategy trajectory for 2026 and how to expand the movement to defend abortion access and reproductive freedom to make it happen. You will get the most current updates about the attacks by corrupt politicians on Missouri’s legal abortion and plug into what we’re doing to fight back next year. \nWe’ll also be giving you the exclusive opportunity to be one of the first to have a new NO on 3 yard sign\, because in 2026\, a NO vote will keep abortion legal. \n			\n			\n				\n				\n				\n				\n			\n				\n				\n				\n				\n				\n				\n				REGISTER HERE!
URL:https://abortionactionmissouri.org/event/kc-base-meeting-december-2025/
LOCATION:Central Presbyterian Church\, 3501 Campbell St\, Kansas City\, 64109\, United States
CATEGORIES:AAM Member Events
ATTACH;FMTTYPE=image/png:https://abortionactionmissouri.org/wp-content/uploads/2025/01/KC-Base-Meeting-EA-Banner-2025.png
END:VEVENT
BEGIN:VEVENT
DTSTART;TZID=UTC:20251213T130000
DTEND;TZID=UTC:20251213T143000
DTSTAMP:20260421T013649
CREATED:20251120T195125Z
LAST-MODIFIED:20251120T195924Z
UID:2983-1765630800-1765636200@abortionactionmissouri.org
SUMMARY:Eastern Jackson County Base Meeting - December 2025
DESCRIPTION:Saturday\, December 13\, 2025 – 1:00 PM – 2:30 PM\n			\n				\n				\n				\n				\n				Join us for our FIRST EVER Eastern Jackson County base meeting! \nIn this meeting\, we’ll co-create action plans to expand the movement and defend abortion access in 2026. You will get the most current updates about the attacks by corrupt politicians on Missouri’s legal abortion and plug into what we’re doing to fight back next year. \nWe’ll also be giving you the exclusive opportunity to be one of the first to have a new NO on 3 yard sign\, because in 2026\, a NO vote will keep abortion legal.  \n			\n			\n				\n				\n				\n				\n			\n				\n				\n				\n				\n				\n				\n				REGISTER HERE!
URL:https://abortionactionmissouri.org/event/jackson-county-base-meeting-december-2025/
LOCATION:Colbern Road Library Center\, 1000 NE Colbern Rd\, Lee's Summit\, MO\, 64086\, United States
CATEGORIES:AAM Member Events
ATTACH;FMTTYPE=image/png:https://abortionactionmissouri.org/wp-content/uploads/2025/11/Eastern-Jackson-County-Base-Meeting-EA-Banner.png
END:VEVENT
BEGIN:VEVENT
DTSTART;TZID=UTC:20260113T183000
DTEND;TZID=UTC:20260113T193000
DTSTAMP:20260421T013649
CREATED:20251209T192326Z
LAST-MODIFIED:20251209T192332Z
UID:3058-1768329000-1768332600@abortionactionmissouri.org
SUMMARY:At-Large Organizing Base Meeting - Tuesday\, January 13
DESCRIPTION:
URL:https://abortionactionmissouri.org/event/at-large-organizing-base-meeting-1-13/
LOCATION:Virtual
CATEGORIES:AAM Member Events
ATTACH;FMTTYPE=image/png:https://abortionactionmissouri.org/wp-content/uploads/2025/03/At-Large-Base-Meetings-EA-Banner-FINAL.png
END:VEVENT
BEGIN:VEVENT
DTSTART;TZID=UTC:20260114T180000
DTEND;TZID=UTC:20260114T193000
DTSTAMP:20260421T013649
CREATED:20251203T194012Z
LAST-MODIFIED:20251209T231223Z
UID:3005-1768413600-1768419000@abortionactionmissouri.org
SUMMARY:St. Charles Base Meeting - January 2026
DESCRIPTION:
URL:https://abortionactionmissouri.org/event/st-charles-base-meeting-january-2026/
LOCATION:McClay Branch Library\, Room A\, 2760 McClay Rd\, Saint Charles\, MO\, 63303\, United States
CATEGORIES:AAM Member Events
ATTACH;FMTTYPE=image/png:https://abortionactionmissouri.org/wp-content/uploads/2024/11/St.-Charles-December-Base-Meeting-EA-Banner.png
END:VEVENT
BEGIN:VEVENT
DTSTART;TZID=UTC:20260114T180000
DTEND;TZID=UTC:20260114T193000
DTSTAMP:20260421T013649
CREATED:20251204T145800Z
LAST-MODIFIED:20251204T150059Z
UID:3011-1768413600-1768419000@abortionactionmissouri.org
SUMMARY:St. Louis County Base Meeting - January 2026
DESCRIPTION:Wednesday\, January 14\, 2026 – 6:00 PM – 7:30 PM\n			\n				\n				\n				\n				\n				Let’s kick-off a new year of protecting Missouri’s legal abortion and stopping another abortion ban together! \nJoin our St. Louis County base to get organized for a productive Missouri Legislative Session by learning about how you can join the fight ahead\, getting updates on all things abortion access and the recent tactics by our opposition\, and putting the finishing touches on a first-of-the-year event that will make AAM history! \n			\n			\n				\n				\n				\n				\n			\n				\n				\n				\n				\n				\n				\n				REGISTER HERE!
URL:https://abortionactionmissouri.org/event/st-louis-county-base-meeting-january-2026/
LOCATION:UFCW 655\, 300 Weidman Rd\, Manchester\, 63011\, United States
CATEGORIES:AAM Member Events
ATTACH;FMTTYPE=image/png:https://abortionactionmissouri.org/wp-content/uploads/2025/09/St.-Louis-County-Base-Meeting-EA-Banner-2025.png
END:VEVENT
BEGIN:VEVENT
DTSTART;TZID=UTC:20260115T180000
DTEND;TZID=UTC:20260115T200000
DTSTAMP:20260421T013649
CREATED:20251209T173359Z
LAST-MODIFIED:20251211T183938Z
UID:3051-1768500000-1768507200@abortionactionmissouri.org
SUMMARY:Kansas City Poster Party - January 2026
DESCRIPTION:
URL:https://abortionactionmissouri.org/event/kansas-city-poster-party-january-2026/
LOCATION:Central Presbyterian Church\, 3501 Campbell St\, Kansas City\, 64109\, United States
CATEGORIES:AAM Member Events
ATTACH;FMTTYPE=image/png:https://abortionactionmissouri.org/wp-content/uploads/2025/12/KC-Poster-Party-EA-Banner.png
END:VEVENT
BEGIN:VEVENT
DTSTART;TZID=UTC:20260120T183000
DTEND;TZID=UTC:20260120T193000
DTSTAMP:20260421T013649
CREATED:20251208T211620Z
LAST-MODIFIED:20251209T172340Z
UID:3023-1768933800-1768937400@abortionactionmissouri.org
SUMMARY:Springfield Base Meeting - January 2026
DESCRIPTION:
URL:https://abortionactionmissouri.org/event/springfield-base-meeting-january-2026/
LOCATION:The Library Station\, 2535 N Kansas Expy\, Springfield\, MO\, 65803\, United States
CATEGORIES:AAM Member Events
ATTACH;FMTTYPE=image/png:https://abortionactionmissouri.org/wp-content/uploads/2025/01/SGF-Base-Meeting-EA-Banner-2025-FINAL.png
END:VEVENT
BEGIN:VEVENT
DTSTART;TZID=UTC:20260211T180000
DTEND;TZID=UTC:20260211T193000
DTSTAMP:20260421T013649
CREATED:20260114T164136Z
LAST-MODIFIED:20260209T171655Z
UID:3078-1770832800-1770838200@abortionactionmissouri.org
SUMMARY:St. Louis County Base Meeting - February 2026
DESCRIPTION:
URL:https://abortionactionmissouri.org/event/st-louis-county-base-meeting-february-2026/
LOCATION:Parkway United Church of Christ\, 2841 N Ballas Rd\, Saint Louis\, 63131
CATEGORIES:AAM Member Events
ATTACH;FMTTYPE=image/png:https://abortionactionmissouri.org/wp-content/uploads/2025/09/St.-Louis-County-Base-Meeting-EA-Banner-2025.png
END:VEVENT
BEGIN:VEVENT
DTSTART;TZID=UTC:20260217T183000
DTEND;TZID=UTC:20260217T200000
DTSTAMP:20260421T013649
CREATED:20260128T180909Z
LAST-MODIFIED:20260128T180915Z
UID:3095-1771353000-1771358400@abortionactionmissouri.org
SUMMARY:Springfield Base Meeting - February 2026
DESCRIPTION:
URL:https://abortionactionmissouri.org/event/springfield-base-meeting-february-2026/
LOCATION:The Library Station\, 2535 N Kansas Expy\, Springfield\, MO\, 65803\, United States
CATEGORIES:AAM Member Events
ATTACH;FMTTYPE=image/png:https://abortionactionmissouri.org/wp-content/uploads/2025/01/SGF-Base-Meeting-EA-Banner-2025-FINAL.png
END:VEVENT
BEGIN:VEVENT
DTSTART;TZID=UTC:20260218T180000
DTEND;TZID=UTC:20260218T193000
DTSTAMP:20260421T013649
CREATED:20260128T192735Z
LAST-MODIFIED:20260128T192741Z
UID:3097-1771437600-1771443000@abortionactionmissouri.org
SUMMARY:Mid-Missouri Base Meeting - February 2026
DESCRIPTION:
URL:https://abortionactionmissouri.org/event/mid-missouri-base-meeting-february-2026/
LOCATION:LiUNA Union Hall\, 404 Tiger Ln\, Columbia\, MO\, 65203\, United States
CATEGORIES:AAM Member Events
ATTACH;FMTTYPE=image/png:https://abortionactionmissouri.org/wp-content/uploads/2025/03/Mid-MO-Base-Meeting-EA-Banner.png
END:VEVENT
BEGIN:VEVENT
DTSTART;TZID=UTC:20260219T180000
DTEND;TZID=UTC:20260219T193000
DTSTAMP:20260421T013649
CREATED:20260128T193554Z
LAST-MODIFIED:20260128T193601Z
UID:3099-1771524000-1771529400@abortionactionmissouri.org
SUMMARY:Kansas City Base Meeting - February 2026
DESCRIPTION:
URL:https://abortionactionmissouri.org/event/kansas-city-base-meeting-february-2026/
LOCATION:Central Presbyterian Church\, 3501 Campbell St\, Kansas City\, 64109\, United States
CATEGORIES:AAM Member Events
ATTACH;FMTTYPE=image/png:https://abortionactionmissouri.org/wp-content/uploads/2025/01/KC-Base-Meeting-EA-Banner-2025.png
END:VEVENT
BEGIN:VEVENT
DTSTART;TZID=UTC:20260219T180000
DTEND;TZID=UTC:20260219T193000
DTSTAMP:20260421T013649
CREATED:20260202T161527Z
LAST-MODIFIED:20260202T161533Z
UID:3124-1771524000-1771529400@abortionactionmissouri.org
SUMMARY:St. Charles Base Meeting - February 2026
DESCRIPTION:
URL:https://abortionactionmissouri.org/event/st-charles-base-meeting-february-2026/
LOCATION:Spencer Road Libarary @ The Commons\, 2nd Fl\, Room M\, 427 Spencer Rd\, Saint Peters\, 63376\, United States
CATEGORIES:AAM Member Events
ATTACH;FMTTYPE=image/png:https://abortionactionmissouri.org/wp-content/uploads/2024/11/St.-Charles-December-Base-Meeting-EA-Banner.png
END:VEVENT
BEGIN:VEVENT
DTSTART;TZID=UTC:20260219T180000
DTEND;TZID=UTC:20260219T200000
DTSTAMP:20260421T013649
CREATED:20260129T222655Z
LAST-MODIFIED:20260202T181656Z
UID:3115-1771524000-1771531200@abortionactionmissouri.org
SUMMARY:Eastern Jackson County Base Meeting - February 2026
DESCRIPTION:
URL:https://abortionactionmissouri.org/event/eastern-jaco-base-meeting-february-2026/
LOCATION:Colbern Road Library Center\, 1000 NE Colbern Rd\, Lee's Summit\, MO\, 64086\, United States
CATEGORIES:AAM Member Events
ATTACH;FMTTYPE=image/png:https://abortionactionmissouri.org/wp-content/uploads/2025/11/Eastern-Jackson-County-Base-Meeting-EA-Banner.png
END:VEVENT
BEGIN:VEVENT
DTSTART;TZID=UTC:20260225T183000
DTEND;TZID=UTC:20260225T193000
DTSTAMP:20260421T013649
CREATED:20260204T213114Z
LAST-MODIFIED:20260204T220419Z
UID:3140-1772044200-1772047800@abortionactionmissouri.org
SUMMARY:I AAM Here: Repro Liberation in Practice - Looking Through a Reproductive Justice Lens
DESCRIPTION:
URL:https://abortionactionmissouri.org/event/i-aam-here-repro-justice-lens/
LOCATION:Webinar
CATEGORIES:AAM Member Events,Community Events
ATTACH;FMTTYPE=image/png:https://abortionactionmissouri.org/wp-content/uploads/2026/02/I-AAM-Here-RJ-EA-Banner.png
END:VEVENT
BEGIN:VEVENT
DTSTART;TZID=UTC:20260312T180000
DTEND;TZID=UTC:20260312T200000
DTSTAMP:20260421T013649
CREATED:20260224T215712Z
LAST-MODIFIED:20260225T193058Z
UID:3177-1773338400-1773345600@abortionactionmissouri.org
SUMMARY:Eastern Jackson County Base Meeting - March 2026
DESCRIPTION:
URL:https://abortionactionmissouri.org/event/eastern-jackson-county-base-meeting-march-2026/
LOCATION:South Independence Library\, 13700 E 35th St S\, Independence\, Missouri\, 64055\, United States
CATEGORIES:AAM Member Events
ATTACH;FMTTYPE=image/png:https://abortionactionmissouri.org/wp-content/uploads/2025/11/Eastern-Jackson-County-Base-Meeting-EA-Banner.png
END:VEVENT
BEGIN:VEVENT
DTSTART;TZID=UTC:20260331T183000
DTEND;TZID=UTC:20260331T193000
DTSTAMP:20260421T013649
CREATED:20260225T211607Z
LAST-MODIFIED:20260225T211722Z
UID:3220-1774981800-1774985400@abortionactionmissouri.org
SUMMARY:I AAM Here: Repro Liberation in Practice - MO Leg: Stop Trying to Make Abortion Bans Happen
DESCRIPTION:
URL:https://abortionactionmissouri.org/event/i-aam-here-repro-liberation-in-practice-mo-leg-stop-trying-to-make-abortion-bans-happen/
LOCATION:Virtual
CATEGORIES:AAM Member Events,Community Events
ATTACH;FMTTYPE=image/png:https://abortionactionmissouri.org/wp-content/uploads/2026/02/I-AAM-Here-March-2026-EA-Banner.png
END:VEVENT
BEGIN:VEVENT
DTSTART;TZID=UTC:20260408T180000
DTEND;TZID=UTC:20260408T193000
DTSTAMP:20260421T013649
CREATED:20260317T210754Z
LAST-MODIFIED:20260317T210801Z
UID:3289-1775671200-1775676600@abortionactionmissouri.org
SUMMARY:St. Louis County Base Meeting - April 2026
DESCRIPTION:
URL:https://abortionactionmissouri.org/event/st-louis-county-base-meeting-april-2026/
LOCATION:Parkway United Church of Christ\, 2841 N Ballas Rd\, Saint Louis\, 63131
CATEGORIES:AAM Member Events
ATTACH;FMTTYPE=image/png:https://abortionactionmissouri.org/wp-content/uploads/2025/09/St.-Louis-County-Base-Meeting-EA-Banner-2025.png
END:VEVENT
BEGIN:VEVENT
DTSTART;TZID=UTC:20260416T180000
DTEND;TZID=UTC:20260416T193000
DTSTAMP:20260421T013649
CREATED:20260317T200647Z
LAST-MODIFIED:20260317T200813Z
UID:3279-1776362400-1776367800@abortionactionmissouri.org
SUMMARY:St. Charles Base Meeting - April 2026
DESCRIPTION:
URL:https://abortionactionmissouri.org/event/st-charles-base-meeting-april-2026/
LOCATION:The Commons @ Spencer Road Library\, Room N\, 427 Spencer Rd\, Saint Peters\, MO\, 63376\, United States
CATEGORIES:AAM Member Events
ATTACH;FMTTYPE=image/png:https://abortionactionmissouri.org/wp-content/uploads/2024/11/St.-Charles-December-Base-Meeting-EA-Banner.png
END:VEVENT
BEGIN:VEVENT
DTSTART;TZID=UTC:20260422T180000
DTEND;TZID=UTC:20260422T193000
DTSTAMP:20260421T013649
CREATED:20260317T184229Z
LAST-MODIFIED:20260415T220812Z
UID:3271-1776880800-1776886200@abortionactionmissouri.org
SUMMARY:Kansas City Base Meeting - April 2026
DESCRIPTION:
URL:https://abortionactionmissouri.org/event/kansas-city-base-meeting-april-2026/
LOCATION:Central Presbyterian Church\, 3501 Campbell St\, Kansas City\, 64109\, United States
CATEGORIES:AAM Member Events
ATTACH;FMTTYPE=image/png:https://abortionactionmissouri.org/wp-content/uploads/2025/01/KC-Base-Meeting-EA-Banner-2025.png
END:VEVENT
END:VCALENDAR