BEGIN:VCALENDAR
VERSION:2.0
PRODID:-//Abortion Action Missouri - ECPv6.15.20//NONSGML v1.0//EN
CALSCALE:GREGORIAN
METHOD:PUBLISH
X-WR-CALNAME:Abortion Action Missouri
X-ORIGINAL-URL:https://abortionactionmissouri.org
X-WR-CALDESC:Events for Abortion Action Missouri
REFRESH-INTERVAL;VALUE=DURATION:PT1H
X-Robots-Tag:noindex
X-PUBLISHED-TTL:PT1H
BEGIN:VTIMEZONE
TZID:UTC
BEGIN:STANDARD
TZOFFSETFROM:+0000
TZOFFSETTO:+0000
TZNAME:UTC
DTSTART:20240101T000000
END:STANDARD
END:VTIMEZONE
BEGIN:VEVENT
DTSTART;TZID=UTC:20251007T183000
DTEND;TZID=UTC:20251007T193000
DTSTAMP:20260423T231744
CREATED:20250930T190424Z
LAST-MODIFIED:20250930T190431Z
UID:2782-1759861800-1759865400@abortionactionmissouri.org
SUMMARY:At-Large Organizing Base Meeting - Virtual - October 2025
DESCRIPTION:Tuesday\, October 7\, 2025 6:30 PM – 7:30 PM CT\n			\n				\n				\n				\n				\n				Join Abortion Action Missouri for an October base meeting! \nYou will receive updates on what has happened legislatively in the last several months and learn ways that we can fight back as a movement against these attacks on our bodies and democracy. \nAt-Large base meetings are specifically designed for Missourians outside of AAM’s organizing regions (West St. Louis County\, St. Charles\, Kansas City\, Columbia\, Springfield) to get updates and learn about how to take Abortion Action from anywhere in the state. \n			\n			\n				\n				\n				\n				\n			\n				\n				\n				\n				\n				\n				\n				REGISTER HERE!
URL:https://abortionactionmissouri.org/event/at-large-base-meeting-virtual-october-2025/
LOCATION:Virtual
CATEGORIES:AAM Member Events
ATTACH;FMTTYPE=image/png:https://abortionactionmissouri.org/wp-content/uploads/2025/03/At-Large-Base-Meetings-EA-Banner-FINAL.png
END:VEVENT
END:VCALENDAR