BEGIN:VCALENDAR
VERSION:2.0
PRODID:-//Abortion Action Missouri - ECPv6.15.20//NONSGML v1.0//EN
CALSCALE:GREGORIAN
METHOD:PUBLISH
X-ORIGINAL-URL:https://abortionactionmissouri.org
X-WR-CALDESC:Events for Abortion Action Missouri
REFRESH-INTERVAL;VALUE=DURATION:PT1H
X-Robots-Tag:noindex
X-PUBLISHED-TTL:PT1H
BEGIN:VTIMEZONE
TZID:UTC
BEGIN:STANDARD
TZOFFSETFROM:+0000
TZOFFSETTO:+0000
TZNAME:UTC
DTSTART:20240101T000000
END:STANDARD
END:VTIMEZONE
BEGIN:VEVENT
DTSTART;TZID=UTC:20250820T180000
DTEND;TZID=UTC:20250820T193000
DTSTAMP:20260422T070436
CREATED:20250724T214919Z
LAST-MODIFIED:20250805T221349Z
UID:2664-1755712800-1755718200@abortionactionmissouri.org
SUMMARY:How to Have Organizing Conversations - West County
DESCRIPTION:Wednesday\, August 20\, 2025 6:00 PM – 7:30 PM \n			\n				\n				\n				\n				\n				For complex topics like abortion and the full spectrum of sexual and reproductive health\, knowing how to have deep\, thoughtful conversations regardless of someone’s personal beliefs is a cornerstone to propelling stigma-busting narratives and education. \nThis month\, our West County base will be exploring how to initiate deliberate dialogue with our families\, friends\, neighbors\, and acquaintances about their perspectives on abortion. These conversations will help us build the support we need to stop another abortion ban and hold anti-abortion politicians accountable. Join us! \n			\n			\n				\n				\n				\n				\n			\n				\n				\n				\n				\n				\n				\n				REGISTER HERE!
URL:https://abortionactionmissouri.org/event/wc-organizing-conversations/
LOCATION:UFCW 655\, 300 Weidman Rd\, Manchester\, 63011\, United States
CATEGORIES:AAM Member Events
ATTACH;FMTTYPE=image/png:https://abortionactionmissouri.org/wp-content/uploads/2025/07/West-County-How-to-Have-Organizing-Conversations-EA-Banner.png
END:VEVENT
END:VCALENDAR