BEGIN:VCALENDAR
VERSION:2.0
PRODID:-//Abortion Action Missouri - ECPv6.15.20//NONSGML v1.0//EN
CALSCALE:GREGORIAN
METHOD:PUBLISH
X-ORIGINAL-URL:https://abortionactionmissouri.org
X-WR-CALDESC:Events for Abortion Action Missouri
REFRESH-INTERVAL;VALUE=DURATION:PT1H
X-Robots-Tag:noindex
X-PUBLISHED-TTL:PT1H
BEGIN:VTIMEZONE
TZID:UTC
BEGIN:STANDARD
TZOFFSETFROM:+0000
TZOFFSETTO:+0000
TZNAME:UTC
DTSTART:20240101T000000
END:STANDARD
END:VTIMEZONE
BEGIN:VEVENT
DTSTART;TZID=UTC:20250611T180000
DTEND;TZID=UTC:20250611T193000
DTSTAMP:20260422T210745
CREATED:20250408T003405Z
LAST-MODIFIED:20250528T202842Z
UID:2459-1749664800-1749670200@abortionactionmissouri.org
SUMMARY:West County Base Meeting - June 2025
DESCRIPTION:Wednesday\, June 11\, 2025 6:00 PM – 7:30 PM\n			\n				\n				\n				\n				\n				Join us to take action with fellow reproductive freedom supporters in West St. Louis County!  \nDuring our meeting\, we’ll begin discussing and building out our in-depth organizing strategy for our movement this summer as we defend abortion rights and reproductive freedom against the legislature’s abortion ban ballot measure. \n			\n			\n				\n				\n				\n				\n			\n				\n				\n				\n				\n				\n				\n				REGISTER HERE!
URL:https://abortionactionmissouri.org/event/west-county-base-meeting-june-2025/
LOCATION:UFCW 655\, 300 Weidman Rd\, Manchester\, 63011\, United States
CATEGORIES:AAM Member Events
ATTACH;FMTTYPE=image/png:https://abortionactionmissouri.org/wp-content/uploads/2024/11/West-County-SD15-December-Base-Meeting-EA-Banner-FINAL.png
END:VEVENT
END:VCALENDAR