BEGIN:VCALENDAR
VERSION:2.0
PRODID:-//Abortion Action Missouri - ECPv6.15.20//NONSGML v1.0//EN
CALSCALE:GREGORIAN
METHOD:PUBLISH
X-WR-CALNAME:Abortion Action Missouri
X-ORIGINAL-URL:https://abortionactionmissouri.org
X-WR-CALDESC:Events for Abortion Action Missouri
REFRESH-INTERVAL;VALUE=DURATION:PT1H
X-Robots-Tag:noindex
X-PUBLISHED-TTL:PT1H
BEGIN:VTIMEZONE
TZID:UTC
BEGIN:STANDARD
TZOFFSETFROM:+0000
TZOFFSETTO:+0000
TZNAME:UTC
DTSTART:20240101T000000
END:STANDARD
END:VTIMEZONE
BEGIN:VEVENT
DTSTART;TZID=UTC:20250317T183000
DTEND;TZID=UTC:20250317T200000
DTSTAMP:20260419T150141
CREATED:20250220T175841Z
LAST-MODIFIED:20250220T175848Z
UID:2211-1742236200-1742241600@abortionactionmissouri.org
SUMMARY:Springfield Base Meeting - March 2025
DESCRIPTION:Monday\, March 17\, 2025 6:30 PM – 8:00 PM\n			\n				\n				\n				\n				\n				Join us to hear important updates and to strategize with fellow pro-reproductive freedom supporters in Springfield! Together\, we’ll take what we’ve learned so far from our actions both regionally and in Jefferson City to plan for further mobilization during Missouri Legislative Session. \n			\n			\n				\n				\n				\n				\n			\n				\n				\n				\n				\n				\n				\n				REGISTER HERE!
URL:https://abortionactionmissouri.org/event/sgf-base-meeting-march-2025/
LOCATION:Schweitzer Brentwood Branch Library\, 2214 S Brentwood Blvd\, Springfield\, 65804\, United States
CATEGORIES:AAM Member Events
ATTACH;FMTTYPE=image/png:https://abortionactionmissouri.org/wp-content/uploads/2025/01/SGF-Base-Meeting-EA-Banner-2025-FINAL.png
END:VEVENT
END:VCALENDAR