BEGIN:VCALENDAR
VERSION:2.0
PRODID:-//Abortion Action Missouri - ECPv6.15.20//NONSGML v1.0//EN
CALSCALE:GREGORIAN
METHOD:PUBLISH
X-ORIGINAL-URL:https://abortionactionmissouri.org
X-WR-CALDESC:Events for Abortion Action Missouri
REFRESH-INTERVAL;VALUE=DURATION:PT1H
X-Robots-Tag:noindex
X-PUBLISHED-TTL:PT1H
BEGIN:VTIMEZONE
TZID:UTC
BEGIN:STANDARD
TZOFFSETFROM:+0000
TZOFFSETTO:+0000
TZNAME:UTC
DTSTART:20230101T000000
END:STANDARD
END:VTIMEZONE
BEGIN:VEVENT
DTSTART;TZID=UTC:20241202T183000
DTEND;TZID=UTC:20241202T200000
DTSTAMP:20260421T132147
CREATED:20241119T162427Z
LAST-MODIFIED:20241119T164903Z
UID:1904-1733164200-1733169600@abortionactionmissouri.org
SUMMARY:Springfield Base Meeting
DESCRIPTION:Monday\, December 2 – 6:30PM – 8:00PM\n			\n				\n				\n				\n				\n				Abortion Action Missouri is holding a base meeting on Monday\, December 2nd\, from 6:30PM to 8:00PM in the Santa Fe Community Room at the Library Station. This event will be an opportunity to discuss our win on Amendment 3\, talk about what’s next for Springfield\, and continue to grow a pro-abortion community in Southwest Missouri. \n			\n			\n				\n				\n				\n				\n			\n				\n				\n				\n				\n				\n				\n				REGISTER HERE!
URL:https://abortionactionmissouri.org/event/sgf-base-meeting/
LOCATION:The Library Station\, 2535 N Kansas Expy\, Springfield\, MO\, 65803\, United States
CATEGORIES:AAM Member Events
ATTACH;FMTTYPE=image/png:https://abortionactionmissouri.org/wp-content/uploads/2024/11/SGF-December-Base-Meeting-EA-Banner.png
END:VEVENT
END:VCALENDAR