BEGIN:VCALENDAR
VERSION:2.0
PRODID:-//Abortion Action Missouri - ECPv6.15.20//NONSGML v1.0//EN
CALSCALE:GREGORIAN
METHOD:PUBLISH
X-WR-CALNAME:Abortion Action Missouri
X-ORIGINAL-URL:https://abortionactionmissouri.org
X-WR-CALDESC:Events for Abortion Action Missouri
REFRESH-INTERVAL;VALUE=DURATION:PT1H
X-Robots-Tag:noindex
X-PUBLISHED-TTL:PT1H
BEGIN:VTIMEZONE
TZID:UTC
BEGIN:STANDARD
TZOFFSETFROM:+0000
TZOFFSETTO:+0000
TZNAME:UTC
DTSTART:20240101T000000
END:STANDARD
END:VTIMEZONE
BEGIN:VEVENT
DTSTART;TZID=UTC:20250918T180000
DTEND;TZID=UTC:20250918T193000
DTSTAMP:20260420T213910
CREATED:20250908T143815Z
LAST-MODIFIED:20250908T150553Z
UID:2745-1758218400-1758223800@abortionactionmissouri.org
SUMMARY:St. Charles Base Meeting and House Party Training - September 2025
DESCRIPTION:Thursday\, September 18\, 2025 6:00 PM – 7:30 PM\n			\n				\n				\n				\n				\n				Join us to take action with fellow reproductive freedom supporters in St. Charles! \nThis month\, we’re taking concrete actions to educate our communities\, including a training on how to host a house party\, as we defend abortion rights and reproductive freedom against the legislature’s 2026 abortion ban ballot measure. Plug in to find out how you can get involved! \n			\n			\n				\n				\n				\n				\n			\n				\n				\n				\n				\n				\n				\n				REGISTER HERE!
URL:https://abortionactionmissouri.org/event/st-charles-base-meeting-september-2025/
LOCATION:St. Charles Community Room\, 1781 Zumbehl Rd\, St. Charles\, 63303\, United States
CATEGORIES:AAM Member Events
ATTACH;FMTTYPE=image/png:https://abortionactionmissouri.org/wp-content/uploads/2024/11/St.-Charles-December-Base-Meeting-EA-Banner.png
END:VEVENT
BEGIN:VEVENT
DTSTART;TZID=UTC:20250920T180000
DTEND;TZID=UTC:20250920T210000
DTSTAMP:20260420T213910
CREATED:20250721T205249Z
LAST-MODIFIED:20250723T164912Z
UID:2630-1758391200-1758402000@abortionactionmissouri.org
SUMMARY:Abortion Action is Missouri Grown - AAM 2025 Gala & Auction
DESCRIPTION:It is time once again for Abortion Action Missouri’s annual Gala & Auction!\n			\n				\n				\n				\n				\n				Saturday\, September 20 at .ZACK in St. Louis\n			\n			\n				\n				\n				\n				\n			\n				\n				\n				\n				\n				\n				\n				\n				\n				\n				\n				\n			\n			\n				\n				\n				\n				\n				\n				\n				\n				\n				\n				Join us as we celebrate the generosity of our supporters\, hear from inspiring speakers\, present awards to champions of reproductive freedom in our community\, and raise crucial funds to fuel AAM’s work during this critical time for abortion rights in Missouri. Now\, it’s more important than ever to show that Abortion Action Missouri isn’t going anywhere\, that we will fiercely defend our constitutional right to abortion which we won last November\, and that Missourians support abortion access! \n			\n			\n				\n				\n				\n				\n			\n				\n				\n				\n				\n				\n				\n				Get Tickets\n			\n			\n				\n				\n				\n				\n				\n				Buy Ads\n			\n			\n				\n				\n				\n				\n				\n				Sponsor\n			\n			\n				\n				\n				\n				\n			\n				\n				\n				\n				\n				\n				\n				\n				\n				\n				\n				\nLike our event last year\, in lieu of a seated dinner\, we will begin with a cocktail party and then move into our awards and speakers program. This means more uninterrupted schmooze time with your friends\, more time to peruse the silent auction\, and more delicious appetizers. \n\n			\n			\n				\n				\n				\n				\n				\n				\n				\n				\n				\n				\n			\n			\n				\n				\n				\n				\n			\n				\n				\n				\n				\n				\n				\n				\n				\n				\n				\n				\nRSVP by Friday\, September 5th\nAttire: Evening garden party\n\n\nWant to donate to our silent auction? Email galaauction@abortionactionmissouri.org \nQuestions about the event? Email amelie@abortionactionmissouri.org
URL:https://abortionactionmissouri.org/event/aam-2025-gala-auction/
LOCATION:.ZACK\, 3224 Locust St\, St. Louis\, 63103
CATEGORIES:AAM Member Events
ATTACH;FMTTYPE=image/png:https://abortionactionmissouri.org/wp-content/uploads/2025/07/2025-AAM-Gala-Missouri-Grown-Email-Banner.png
END:VEVENT
BEGIN:VEVENT
DTSTART;TZID=UTC:20250922T183000
DTEND;TZID=UTC:20250922T200000
DTSTAMP:20260420T213910
CREATED:20250908T142714Z
LAST-MODIFIED:20250908T163331Z
UID:2743-1758565800-1758571200@abortionactionmissouri.org
SUMMARY:Springfield Base Meeting and House Party Training - September 2025
DESCRIPTION:Monday\, September 22\, 2025 6:30 PM – 8:00 PM\n			\n				\n				\n				\n				\n				Join us to take action with fellow reproductive freedom supporters in Southwest Missouri! \nThis month\, we’re taking concrete actions to educate our communities\, including a training on how to host a house party\, as we defend abortion rights and reproductive freedom against the legislature’s 2026 abortion ban ballot measure. Plug in to find out how you can get involved! \n			\n			\n				\n				\n				\n				\n			\n				\n				\n				\n				\n				\n				\n				REGISTER HERE!
URL:https://abortionactionmissouri.org/event/springfield-base-meeting-september-2025/
LOCATION:The Library Station\, 2535 N Kansas Expy\, Springfield\, MO\, 65803\, United States
CATEGORIES:AAM Member Events
ATTACH;FMTTYPE=image/png:https://abortionactionmissouri.org/wp-content/uploads/2025/01/SGF-Base-Meeting-EA-Banner-2025-FINAL.png
END:VEVENT
BEGIN:VEVENT
DTSTART;TZID=UTC:20250924T180000
DTEND;TZID=UTC:20250924T200000
DTSTAMP:20260420T213910
CREATED:20250915T220304Z
LAST-MODIFIED:20250915T220313Z
UID:2766-1758736800-1758744000@abortionactionmissouri.org
SUMMARY:How to Have Organizing Conversations - Ashland
DESCRIPTION:Wednesday\, September 24\, 2025 – 6:00 PM – 8:00 PM \n			\n				\n				\n				\n				\n				For complex topics like abortion and the full spectrum of sexual and reproductive health\, knowing how to have deep\, thoughtful conversations regardless of someone’s personal beliefs is a cornerstone to propelling stigma-busting narratives and education. \nWe’re taking our How to Have Organizing Conversations Training to Ashland! We’ll be exploring how to initiate deliberate dialogue with our families\, friends\, neighbors\, and acquaintances about their perspectives on abortion. These conversations will help us build the support we need to stop another abortion ban and hold anti-abortion politicians accountable. Join us! \n			\n			\n				\n				\n				\n				\n			\n				\n				\n				\n				\n				\n				\n				REGISTER HERE!
URL:https://abortionactionmissouri.org/event/how-to-have-organizing-conversations-ashland/
LOCATION:Southern Boone Public Library\, 109 N Main St\, Ashland\, 65010\, United States
CATEGORIES:AAM Member Events
ATTACH;FMTTYPE=image/png:https://abortionactionmissouri.org/wp-content/uploads/2025/08/Mid-MO-Organizing-Conversations-Base-Meeting-EA-Banner.png
END:VEVENT
END:VCALENDAR