BEGIN:VCALENDAR
VERSION:2.0
PRODID:-//Abortion Action Missouri - ECPv6.15.20//NONSGML v1.0//EN
CALSCALE:GREGORIAN
METHOD:PUBLISH
X-WR-CALNAME:Abortion Action Missouri
X-ORIGINAL-URL:https://abortionactionmissouri.org
X-WR-CALDESC:Events for Abortion Action Missouri
REFRESH-INTERVAL;VALUE=DURATION:PT1H
X-Robots-Tag:noindex
X-PUBLISHED-TTL:PT1H
BEGIN:VTIMEZONE
TZID:UTC
BEGIN:STANDARD
TZOFFSETFROM:+0000
TZOFFSETTO:+0000
TZNAME:UTC
DTSTART:20240101T000000
END:STANDARD
END:VTIMEZONE
BEGIN:VEVENT
DTSTART;TZID=UTC:20250203T183000
DTEND;TZID=UTC:20250203T200000
DTSTAMP:20260421T204134
CREATED:20250128T152927Z
LAST-MODIFIED:20250129T180925Z
UID:2102-1738607400-1738612800@abortionactionmissouri.org
SUMMARY:Springfield Base Meeting - February 2025
DESCRIPTION:Monday\, February 3\, 2025 6:30 PM – 8:00 PM\n			\n				\n				\n				\n				\n				Join us to hear important updates and to strategize with fellow pro-reproductive freedom supporters in Springfield! During this meeting\, we will be providing a debrief of our Reproductive Freedom Day of Action with next steps\, planning for our regional town hall in March\, and gearing up for further opportunities to take action during Missouri Legislative Session. \n			\n			\n				\n				\n				\n				\n			\n				\n				\n				\n				\n				\n				\n				REGISTER HERE!
URL:https://abortionactionmissouri.org/event/sgf-base-meeting-february-2025/
LOCATION:Schweitzer Brentwood Branch Library\, 2214 S Brentwood Blvd\, Springfield\, 65804\, United States
CATEGORIES:AAM Member Events
ATTACH;FMTTYPE=image/png:https://abortionactionmissouri.org/wp-content/uploads/2025/01/SGF-Base-Meeting-EA-Banner-2025-FINAL.png
END:VEVENT
BEGIN:VEVENT
DTSTART;TZID=UTC:20250211T063000
DTEND;TZID=UTC:20250211T193000
DTSTAMP:20260421T204134
CREATED:20250128T182849Z
LAST-MODIFIED:20250128T182856Z
UID:2105-1739255400-1739302200@abortionactionmissouri.org
SUMMARY:At-Large Base Meeting Webinar - Tuesday\, February 11
DESCRIPTION:Tuesday\, February 11\, 2025 – 6:30 PM – 7:30 PM CT\n			\n				\n				\n				\n				\n				Join us to hear important updates and to strategize with fellow pro-reproductive freedom supporters! At-Large base meeting webinars are specifically designed for Missourians outside of AAM’s organizing regions (West St. Louis County\, St. Charles\, Kansas City\, Columbia\, Springfield) to get updates and learn about how to take Abortion Action across the state. \n			\n			\n				\n				\n				\n				\n			\n				\n				\n				\n				\n				\n				\n				REGISTER HERE!
URL:https://abortionactionmissouri.org/event/at-large-base-webinar-2-11/
LOCATION:Webinar
CATEGORIES:AAM Member Events
END:VEVENT
BEGIN:VEVENT
DTSTART;TZID=UTC:20250219T180000
DTEND;TZID=UTC:20250219T193000
DTSTAMP:20260421T204134
CREATED:20250115T155907Z
LAST-MODIFIED:20250115T155913Z
UID:2083-1739988000-1739993400@abortionactionmissouri.org
SUMMARY:West County Base Meeting - February 2025
DESCRIPTION:Wednesday\, February 19 – 6:00PM – 7:30PM\n			\n				\n				\n				\n				\n				Join us for important updates and time to strategize with fellow pro-reproductive freedom supporters in West St. Louis County! During this meeting\, we will be providing a debrief of our Reproductive Freedom Day of Action\, planning for our regional town hall in March\, and gearing up for further opportunities to take action during Missouri Legislative Session. \n			\n			\n				\n				\n				\n				\n			\n				\n				\n				\n				\n				\n				\n				REGISTER HERE!
URL:https://abortionactionmissouri.org/event/west-county-base-meeting-2-19/
LOCATION:Daniel Boone Branch\, Meeting Room 3\, 300 Clarkson Rd\, Ellisville\, MO\, 63011\, United States
CATEGORIES:AAM Member Events
ATTACH;FMTTYPE=image/png:https://abortionactionmissouri.org/wp-content/uploads/2024/11/West-County-SD15-December-Base-Meeting-EA-Banner-FINAL.png
END:VEVENT
BEGIN:VEVENT
DTSTART;TZID=UTC:20250219T180000
DTEND;TZID=UTC:20250219T193000
DTSTAMP:20260421T204134
CREATED:20250123T185342Z
LAST-MODIFIED:20250210T202412Z
UID:2094-1739988000-1739993400@abortionactionmissouri.org
SUMMARY:Columbia Base Meeting - February 2025
DESCRIPTION:Wednesday\, February 19 – 6:00 PM – 7:30 PM\n			\n				\n				\n				\n				\n				Join us to hear important updates and to strategize with fellow pro-reproductive freedom supporters in Columbia! During this meeting\, we will be providing a debrief of our Reproductive Freedom Day of Action\, planning for our regional town hall in March\, and gearing up for further opportunities to take action during Missouri Legislative Session. \n			\n			\n				\n				\n				\n				\n			\n				\n				\n				\n				\n				\n				\n				REGISTER HERE!
URL:https://abortionactionmissouri.org/event/columbia-base-meeting-february-2025/
LOCATION:The Activity & Recreation Center (ARC)\, Room C\, 1701 W Ash St\, Columbia\, 65203\, United States
CATEGORIES:AAM Member Events
ATTACH;FMTTYPE=image/png:https://abortionactionmissouri.org/wp-content/uploads/2025/01/Columbia-Base-Meeting-EA-Banner.png
END:VEVENT
BEGIN:VEVENT
DTSTART;TZID=UTC:20250219T180000
DTEND;TZID=UTC:20250219T193000
DTSTAMP:20260421T204134
CREATED:20250123T195938Z
LAST-MODIFIED:20250218T183506Z
UID:2096-1739988000-1739993400@abortionactionmissouri.org
SUMMARY:Kansas City Base Meeting - Webinar - February 2025
DESCRIPTION:Webinar – Wednesday\, February 19 – 6:00 PM – 7:30 PM\n			\n				\n				\n				\n				\n				NOW A WEBINAR: Join us to hear important updates and to strategize with fellow pro-reproductive freedom supporters in Kansas City! During this meeting\, we will be providing a debrief of our Reproductive Freedom Day of Action\, planning for our regional town hall in March\, and gearing up for more ways to take action during Missouri Legislative Session. \n			\n			\n				\n				\n				\n				\n			\n				\n				\n				\n				\n				\n				\n				REGISTER HERE!
URL:https://abortionactionmissouri.org/event/kc-base-meeting-february-2025/
LOCATION:Webinar
CATEGORIES:AAM Member Events
ATTACH;FMTTYPE=image/png:https://abortionactionmissouri.org/wp-content/uploads/2025/01/KC-Base-Meeting-EA-Banner-2025.png
END:VEVENT
BEGIN:VEVENT
DTSTART;TZID=UTC:20250220T180000
DTEND;TZID=UTC:20250220T193000
DTSTAMP:20260421T204134
CREATED:20250128T200940Z
LAST-MODIFIED:20250128T211445Z
UID:2108-1740074400-1740079800@abortionactionmissouri.org
SUMMARY:St. Charles Base Meeting - February 2025
DESCRIPTION:Thursday\, February 20\, 2025 6:00 PM – 7:30 PM\n			\n				\n				\n				\n				\n				Join Abortion Action Missouri as we discuss our plan to protect Amendment 3 this 2025 legislative session\, in addition to our long-term plan to build power in the St. Charles region for reproductive freedom. \n			\n			\n				\n				\n				\n				\n			\n				\n				\n				\n				\n				\n				\n				REGISTER HERE!
URL:https://abortionactionmissouri.org/event/st-charles-base-meeting-february-2025/
LOCATION:St. Charles Democratic Committee Office\, 2722 S Saint Peters Pkwy\, St. Peters\, 63303\, United States
CATEGORIES:AAM Member Events
ATTACH;FMTTYPE=image/png:https://abortionactionmissouri.org/wp-content/uploads/2024/11/St.-Charles-December-Base-Meeting-EA-Banner.png
END:VEVENT
BEGIN:VEVENT
DTSTART;TZID=UTC:20250225T063000
DTEND;TZID=UTC:20250225T193000
DTSTAMP:20260421T204134
CREATED:20250210T203917Z
LAST-MODIFIED:20250210T203922Z
UID:2118-1740465000-1740511800@abortionactionmissouri.org
SUMMARY:At-Large Base Meeting Webinar - Tuesday\, February 25
DESCRIPTION:Tuesday\, February 25\, 2025 – 6:30 PM – 7:30 PM CT\n			\n				\n				\n				\n				\n				Join us to hear important updates and to strategize with fellow pro-reproductive freedom supporters! At-Large base meeting webinars are specifically designed for Missourians outside of AAM’s organizing regions (West St. Louis County\, St. Charles\, Kansas City\, Columbia\, Springfield) to get updates and learn about how to take Abortion Action across the state. \n			\n			\n				\n				\n				\n				\n			\n				\n				\n				\n				\n				\n				\n				REGISTER HERE!
URL:https://abortionactionmissouri.org/event/at-large-base-meeting-webinar-tuesday-february-25/
LOCATION:Webinar
CATEGORIES:AAM Member Events
END:VEVENT
END:VCALENDAR