BEGIN:VCALENDAR
VERSION:2.0
PRODID:-//Abortion Action Missouri - ECPv6.15.20//NONSGML v1.0//EN
CALSCALE:GREGORIAN
METHOD:PUBLISH
X-WR-CALNAME:Abortion Action Missouri
X-ORIGINAL-URL:https://abortionactionmissouri.org
X-WR-CALDESC:Events for Abortion Action Missouri
REFRESH-INTERVAL;VALUE=DURATION:PT1H
X-Robots-Tag:noindex
X-PUBLISHED-TTL:PT1H
BEGIN:VTIMEZONE
TZID:UTC
BEGIN:STANDARD
TZOFFSETFROM:+0000
TZOFFSETTO:+0000
TZNAME:UTC
DTSTART:20230101T000000
END:STANDARD
END:VTIMEZONE
BEGIN:VEVENT
DTSTART;TZID=UTC:20240921T100000
DTEND;TZID=UTC:20240921T140000
DTSTAMP:20260420T023635
CREATED:20240906T212112Z
LAST-MODIFIED:20240906T212119Z
UID:1542-1726912800-1726927200@abortionactionmissouri.org
SUMMARY:Canvass for Yes on 3 in Springfield
DESCRIPTION:Canvass with us in Springfield for the Abortion Rights Amendment!\nSaturday\, September 21\n			\n				\n				\n				\n				\n				Join us as we talk to our neighbors in Springfield about abortion and the reproductive rights amendment on the ballot in November! \n			\n			\n				\n				\n				\n				\n			\n				\n				\n				\n				\n				\n				\n				REGISTER HERE!
URL:https://abortionactionmissouri.org/event/canvass-for-yes-on-3-in-springfield-3/
LOCATION:National Avenue Christian Church\, 1515 S National Ave\, Springfield\, 65804\, United States
CATEGORIES:AAM/MCF Canvassing,Missourians for Constitutional Freedom Campaign
ATTACH;FMTTYPE=image/png:https://abortionactionmissouri.org/wp-content/uploads/2024/09/SGF-MCF-Canvass-EA-Banner.png
END:VEVENT
BEGIN:VEVENT
DTSTART;TZID=UTC:20240922T133000
DTEND;TZID=UTC:20240922T170000
DTSTAMP:20260420T023635
CREATED:20240909T222452Z
LAST-MODIFIED:20240909T222456Z
UID:1573-1727011800-1727024400@abortionactionmissouri.org
SUMMARY:West County Organizing Conversations and Canvass
DESCRIPTION:Canvass with us in West County for the Abortion Rights Amendment!\nSunday\, September 22\n			\n				\n				\n				\n				\n				Join us as we talk to our neighbors in West St. Louis County about Amendment 3. \n			\n			\n				\n				\n				\n				\n			\n				\n				\n				\n				\n				\n				\n				REGISTER HERE!
URL:https://abortionactionmissouri.org/event/west-county-organizing-conversations-and-canvass-2/
LOCATION:Daniel Boone Branch\, Meeting Room 3\, 300 Clarkson Rd\, Ellisville\, MO\, 63011\, United States
CATEGORIES:AAM/MCF Canvassing,Missourians for Constitutional Freedom Campaign
ATTACH;FMTTYPE=image/png:https://abortionactionmissouri.org/wp-content/uploads/2024/09/West-County-Organizing-ConversationsCanvass-EA-Banner.png
END:VEVENT
END:VCALENDAR