BEGIN:VCALENDAR
VERSION:2.0
PRODID:-//Abortion Action Missouri - ECPv6.15.20//NONSGML v1.0//EN
CALSCALE:GREGORIAN
METHOD:PUBLISH
X-WR-CALNAME:Abortion Action Missouri
X-ORIGINAL-URL:https://abortionactionmissouri.org
X-WR-CALDESC:Events for Abortion Action Missouri
REFRESH-INTERVAL;VALUE=DURATION:PT1H
X-Robots-Tag:noindex
X-PUBLISHED-TTL:PT1H
BEGIN:VTIMEZONE
TZID:UTC
BEGIN:STANDARD
TZOFFSETFROM:+0000
TZOFFSETTO:+0000
TZNAME:UTC
DTSTART:20240101T000000
END:STANDARD
END:VTIMEZONE
BEGIN:VEVENT
DTSTART;TZID=UTC:20251019T100000
DTEND;TZID=UTC:20251019T140000
DTSTAMP:20260421T232653
CREATED:20250903T193903Z
LAST-MODIFIED:20250903T193909Z
UID:2731-1760868000-1760882400@abortionactionmissouri.org
SUMMARY:Abortion Rights Organizing Conversations Canvassing - Springfield - Sunday\, October 19
DESCRIPTION:Sunday\, October 19\, 2025 10:00 AM – 2:00 PM \n			\n				\n				\n				\n				\n				For complex topics like abortion and the full spectrum of sexual and reproductive health\, deep\, thoughtful conversations with our neighbors about their personal beliefs is central to busting abortion stigma and building a pro-abortion majority.  \nJoin us to knock doors and have organizing conversations in Springfield to help us build the support we need to stop another abortion ban and hold anti-abortion politicians accountable! \nA short training is offered before we hit the doors in pairs. \n			\n			\n				\n				\n				\n				\n			\n				\n				\n				\n				\n				\n				\n				REGISTER HERE!
URL:https://abortionactionmissouri.org/event/oc-canvassing-springfield-10-19/
LOCATION:National Avenue Christian Church\, 1515 S National Ave\, Springfield\, 65804\, United States
CATEGORIES:Canvassing
ATTACH;FMTTYPE=image/png:https://abortionactionmissouri.org/wp-content/uploads/2025/09/SGF-2025-Deep-Canvass-EA-Banner-FINAL.png
END:VEVENT
BEGIN:VEVENT
DTSTART;TZID=UTC:20251019T130000
DTEND;TZID=UTC:20251019T170000
DTSTAMP:20260421T232653
CREATED:20251006T213505Z
LAST-MODIFIED:20251006T221433Z
UID:2809-1760878800-1760893200@abortionactionmissouri.org
SUMMARY:Abortion Rights Organizing Conversations Canvassing - West County - Sunday\, October 19
DESCRIPTION:Sunday\, October 19\, 2025 – 1:00 PM – 5:00 PM\n			\n				\n				\n				\n				\n				For complex topics like abortion and the full spectrum of sexual and reproductive health\, deep\, thoughtful conversations with our neighbors about their personal beliefs is central to busting abortion stigma and building a pro-abortion majority.  \nJoin us to knock doors and have organizing conversations in West County to help us build the support we need to stop another abortion ban and hold anti-abortion politicians accountable! \nA short training is offered before we hit the doors in pairs. \n			\n			\n				\n				\n				\n				\n			\n				\n				\n				\n				\n				\n				\n				REGISTER HERE!
URL:https://abortionactionmissouri.org/event/oc-canvassing-west-county-10-19/
LOCATION:TBD\, Saint Louis County\, MO\, TBD\, Saint Louis County\, MO\, United States
CATEGORIES:Canvassing
ATTACH;FMTTYPE=image/png:https://abortionactionmissouri.org/wp-content/uploads/2025/09/West-County-2025-Deep-Canvass-EA-Banner.png
END:VEVENT
BEGIN:VEVENT
DTSTART;TZID=UTC:20251019T170000
DTEND;TZID=UTC:20251019T200000
DTSTAMP:20260421T232653
CREATED:20251002T222553Z
LAST-MODIFIED:20251015T212143Z
UID:2804-1760893200-1760904000@abortionactionmissouri.org
SUMMARY:AAM Drag Bingo Night - Springfield
DESCRIPTION:Sunday\, October 19\, 2025 5:00 PM – 8:00 PM\n			\n				\n				\n				\n				\n				Join us after the October 19 deep canvassing shift to unwind at AAM’s Springfield Drag Bingo Night and silent auction hosted by Ruby Diamonds! Proceeds will go to benefit AAM and our work defending abortion rights and reproductive freedom. \nThe at-the-door cost is $10 per person. \n			\n			\n				\n				\n				\n				\n			\n				\n				\n				\n				\n				\n				\n				REGISTER HERE!
URL:https://abortionactionmissouri.org/event/drag-bingo-springfield/
LOCATION:Ruthie’s on C-Street\, 1611 N Campbell\, Springfield\, MO\, 65803\, United States
CATEGORIES:Community Events
ATTACH;FMTTYPE=image/png:https://abortionactionmissouri.org/wp-content/uploads/2025/10/Drag-Bingo-SGF-EA-Banner.-FINALpng.png
END:VEVENT
END:VCALENDAR