BEGIN:VCALENDAR
VERSION:2.0
PRODID:-//Abortion Action Missouri - ECPv6.15.20//NONSGML v1.0//EN
CALSCALE:GREGORIAN
METHOD:PUBLISH
X-ORIGINAL-URL:https://abortionactionmissouri.org
X-WR-CALDESC:Events for Abortion Action Missouri
REFRESH-INTERVAL;VALUE=DURATION:PT1H
X-Robots-Tag:noindex
X-PUBLISHED-TTL:PT1H
BEGIN:VTIMEZONE
TZID:UTC
BEGIN:STANDARD
TZOFFSETFROM:+0000
TZOFFSETTO:+0000
TZNAME:UTC
DTSTART:20240101T000000
END:STANDARD
END:VTIMEZONE
BEGIN:VEVENT
DTSTART;TZID=UTC:20250802T090000
DTEND;TZID=UTC:20250802T153000
DTSTAMP:20260425T113230
CREATED:20250703T171650Z
LAST-MODIFIED:20250703T171657Z
UID:2594-1754125200-1754148600@abortionactionmissouri.org
SUMMARY:AAM Mega Training - Stop Another Abortion Ban
DESCRIPTION:Saturday\, August 2\, 2025 9:00 AM – 3:30 PM\n			\n				\n				\n				\n				\n				In the coming months\, Missourians from all across our state must take action to protect the will of Missouri voters and defeat the legislature’s proposed abortion ban at the ballot box. In order to accomplish that\, Abortion Action Missouri is bringing our statewide movement of leaders and volunteers together for the first time ever for a mega training on fundamental organizing skills needed to build\, and the opportunity to build your own organizing plan. \n			\n			\n				\n				\n				\n				\n			\n				\n				\n				\n				\n				\n				\n				REGISTER HERE!
URL:https://abortionactionmissouri.org/event/mega-training/
LOCATION:TBD\, Columbia\, MO\, Columbia\, MO\, United States
CATEGORIES:AAM Member Events
ATTACH;FMTTYPE=image/png:https://abortionactionmissouri.org/wp-content/uploads/2025/07/Mega-Training-2025-EA-Banner.png
END:VEVENT
END:VCALENDAR