BEGIN:VCALENDAR
VERSION:2.0
PRODID:-//Abortion Action Missouri - ECPv6.15.20//NONSGML v1.0//EN
CALSCALE:GREGORIAN
METHOD:PUBLISH
X-WR-CALNAME:Abortion Action Missouri
X-ORIGINAL-URL:https://abortionactionmissouri.org
X-WR-CALDESC:Events for Abortion Action Missouri
REFRESH-INTERVAL;VALUE=DURATION:PT1H
X-Robots-Tag:noindex
X-PUBLISHED-TTL:PT1H
BEGIN:VTIMEZONE
TZID:UTC
BEGIN:STANDARD
TZOFFSETFROM:+0000
TZOFFSETTO:+0000
TZNAME:UTC
DTSTART:20240101T000000
END:STANDARD
END:VTIMEZONE
BEGIN:VEVENT
DTSTART;TZID=UTC:20250720T090000
DTEND;TZID=UTC:20250720T130000
DTSTAMP:20260424T045031
CREATED:20250715T220107Z
LAST-MODIFIED:20250715T220114Z
UID:2627-1753002000-1753016400@abortionactionmissouri.org
SUMMARY:Stop Anti-Abortion\, Anti-Democracy Politicians! Canvass - Mid-Missouri
DESCRIPTION:Sunday\, July 20\, 2025 9:00 AM – 1:00 PM\n			\n				\n				\n				\n				\n				Want to keep anti-abortion\, anti-democracy politicians from getting reelected and wreaking havoc on our rights? Canvass HD 44 constituents with our Mid-Missouri base to make the public aware that their representative\, John Martin\, violated the will of the people and our constitutional right to abortion and reproductive freedom! \nNever canvassed before? No problem! We will be providing a short training before we hit the doors in pairs. \n			\n			\n				\n				\n				\n				\n			\n				\n				\n				\n				\n				\n				\n				REGISTER HERE!
URL:https://abortionactionmissouri.org/event/mid-mo-accountability-canvass-7_20/
LOCATION:LiUNA Union Hall\, 404 Tiger Ln\, Columbia\, MO\, 65203\, United States
CATEGORIES:Canvassing
ATTACH;FMTTYPE=image/png:https://abortionactionmissouri.org/wp-content/uploads/2025/07/Mid-MO-Anti-Politicians-Canvass-EA-Banner-FINAL.png
END:VEVENT
END:VCALENDAR