BEGIN:VCALENDAR
VERSION:2.0
PRODID:-//Abortion Action Missouri - ECPv6.15.20//NONSGML v1.0//EN
CALSCALE:GREGORIAN
METHOD:PUBLISH
X-WR-CALNAME:Abortion Action Missouri
X-ORIGINAL-URL:https://abortionactionmissouri.org
X-WR-CALDESC:Events for Abortion Action Missouri
REFRESH-INTERVAL;VALUE=DURATION:PT1H
X-Robots-Tag:noindex
X-PUBLISHED-TTL:PT1H
BEGIN:VTIMEZONE
TZID:UTC
BEGIN:STANDARD
TZOFFSETFROM:+0000
TZOFFSETTO:+0000
TZNAME:UTC
DTSTART:20240101T000000
END:STANDARD
END:VTIMEZONE
BEGIN:VEVENT
DTSTART;TZID=UTC:20250624T180000
DTEND;TZID=UTC:20250624T193000
DTSTAMP:20260422T073530
CREATED:20250609T192217Z
LAST-MODIFIED:20250618T182807Z
UID:2554-1750788000-1750793400@abortionactionmissouri.org
SUMMARY:Kansas City Base Meeting - June 2025
DESCRIPTION:Tuesday\, June 24\, 2025 6:00 PM – 7:30 PM\n			\n				\n				\n				\n				\n				Join us to take action with fellow reproductive freedom supporters in Kansas City! During our meeting\, we’ll begin discussing and building out our in-depth organizing strategy for our movement this summer as we defend abortion rights and reproductive freedom against the legislature’s abortion ban ballot measure. \n			\n			\n				\n				\n				\n				\n			\n				\n				\n				\n				\n				\n				\n				REGISTER HERE!
URL:https://abortionactionmissouri.org/event/kc-base-meeting-june-2025/
LOCATION:Trinity United Methodist Church\, 620 E Armour Blvd\, Kansas City\, MO\, 64109\, United States
CATEGORIES:AAM Member Events
ATTACH;FMTTYPE=image/png:https://abortionactionmissouri.org/wp-content/uploads/2025/01/KC-Base-Meeting-EA-Banner-2025.png
END:VEVENT
END:VCALENDAR