BEGIN:VCALENDAR
VERSION:2.0
PRODID:-//Abortion Action Missouri - ECPv6.15.20//NONSGML v1.0//EN
CALSCALE:GREGORIAN
METHOD:PUBLISH
X-ORIGINAL-URL:https://abortionactionmissouri.org
X-WR-CALDESC:Events for Abortion Action Missouri
REFRESH-INTERVAL;VALUE=DURATION:PT1H
X-Robots-Tag:noindex
X-PUBLISHED-TTL:PT1H
BEGIN:VTIMEZONE
TZID:UTC
BEGIN:STANDARD
TZOFFSETFROM:+0000
TZOFFSETTO:+0000
TZNAME:UTC
DTSTART:20240101T000000
END:STANDARD
END:VTIMEZONE
BEGIN:VEVENT
DTSTART;TZID=UTC:20250507T120000
DTEND;TZID=UTC:20250507T133000
DTSTAMP:20260419T233907
CREATED:20250501T220830Z
LAST-MODIFIED:20250501T220838Z
UID:2514-1746619200-1746624600@abortionactionmissouri.org
SUMMARY:Statewide Phone Bank to Defend Amendment 3 - Wednesday\, May 7
DESCRIPTION:Wednesday\, May 7\, 2025 12:00 PM – 1:30 PM CT\n			\n				\n				\n				\n				\n				Join Abortion Action Missouri for a virtual phone bank to defend Amendment 3! Volunteers who join us will be calling Missourians across the state asking them to tell their legislators to vote NO on HJR 73 before it comes to the Senate floor. A training will be included at the beginning of our session. \n			\n			\n				\n				\n				\n				\n			\n				\n				\n				\n				\n				\n				\n				REGISTER HERE!
URL:https://abortionactionmissouri.org/event/phone-bank-to-defend-a3-5_7/
LOCATION:Virtual
CATEGORIES:AAM Member Events
ATTACH;FMTTYPE=image/png:https://abortionactionmissouri.org/wp-content/uploads/2025/05/Phonebank-to-Defend-A3-Letter-EA-Banner.png
END:VEVENT
END:VCALENDAR