BEGIN:VCALENDAR
VERSION:2.0
PRODID:-//Abortion Action Missouri - ECPv6.15.20//NONSGML v1.0//EN
CALSCALE:GREGORIAN
METHOD:PUBLISH
X-WR-CALNAME:Abortion Action Missouri
X-ORIGINAL-URL:https://abortionactionmissouri.org
X-WR-CALDESC:Events for Abortion Action Missouri
REFRESH-INTERVAL;VALUE=DURATION:PT1H
X-Robots-Tag:noindex
X-PUBLISHED-TTL:PT1H
BEGIN:VTIMEZONE
TZID:UTC
BEGIN:STANDARD
TZOFFSETFROM:+0000
TZOFFSETTO:+0000
TZNAME:UTC
DTSTART:20240101T000000
END:STANDARD
END:VTIMEZONE
BEGIN:VEVENT
DTSTART;TZID=UTC:20250419T110000
DTEND;TZID=UTC:20250419T120000
DTSTAMP:20260420T174757
CREATED:20250325T145913Z
LAST-MODIFIED:20250327T184547Z
UID:2397-1745060400-1745064000@abortionactionmissouri.org
SUMMARY:Defend Amendment 3 Rally - Kansas City
DESCRIPTION:Saturday\, April 19\, 2025 11:00 AM – 12:00 PM\n			\n				\n				\n				\n				\n				Missourians fueled last year’s Amendment 3 victory enshrining the right to abortion and reproductive freedom in our state Constitution. This Missouri Legislative Session\, anti-abortion politicians are afraid of our power and are dead set on undermining our growing access to abortion care and bodily autonomy. \nAbortion Action Missouri is hosting regional Defend Amendment 3 Rallies to show the power of our Missouri-grown movement for reproductive freedom. Join Missourians across the state at our Kansas City rally to show them that we will stop at nothing to defend Amendment 3 and protect abortion rights! \n			\n			\n				\n				\n				\n				\n			\n				\n				\n				\n				\n				\n				\n				REGISTER HERE!
URL:https://abortionactionmissouri.org/event/defend-a3-rally-kansas-city/
LOCATION:Trinity United Methodist Church\, 620 E Armour Blvd\, Kansas City\, MO\, 64109\, United States
CATEGORIES:Rallies
ATTACH;FMTTYPE=image/png:https://abortionactionmissouri.org/wp-content/uploads/2025/03/Defend-A3-Rally-Banner-Kansas-City.png
END:VEVENT
BEGIN:VEVENT
DTSTART;TZID=UTC:20250419T110000
DTEND;TZID=UTC:20250419T120000
DTSTAMP:20260420T174757
CREATED:20250325T150957Z
LAST-MODIFIED:20250331T183207Z
UID:2403-1745060400-1745064000@abortionactionmissouri.org
SUMMARY:Defend Amendment 3 Rally - Springfield
DESCRIPTION:Saturday\, April 19\, 2025 11:00 AM – 12:00 PM\n			\n				\n				\n				\n				\n				Missourians fueled last year’s Amendment 3 victory enshrining the right to abortion and reproductive freedom in our state Constitution. This Missouri Legislative Session\, anti-abortion politicians are afraid of our power and are dead set on undermining our growing access to abortion care and bodily autonomy. \nAbortion Action Missouri is hosting regional Defend Amendment 3 Rallies to show the power of our Missouri-grown movement for reproductive freedom. Join Missourians across the state at our Springfield rally to show them that we will stop at nothing to defend Amendment 3 and protect abortion rights! \n			\n			\n				\n				\n				\n				\n			\n				\n				\n				\n				\n				\n				\n				REGISTER HERE!
URL:https://abortionactionmissouri.org/event/defend-amendment-3-rally-springfield/
LOCATION:National Avenue Christian Church\, 1515 S National Ave\, Springfield\, 65804\, United States
CATEGORIES:Rallies
ATTACH;FMTTYPE=image/png:https://abortionactionmissouri.org/wp-content/uploads/2025/03/Defend-A3-Rally-Banner-Springfield.png
END:VEVENT
BEGIN:VEVENT
DTSTART;TZID=UTC:20250419T110000
DTEND;TZID=UTC:20250419T120000
DTSTAMP:20260420T174757
CREATED:20250325T151603Z
LAST-MODIFIED:20250325T162327Z
UID:2407-1745060400-1745064000@abortionactionmissouri.org
SUMMARY:Defend Amendment 3 Rally - Mid-Missouri
DESCRIPTION:Saturday\, April 19\, 2025 11:00 AM – 12:00 PM\n			\n				\n				\n				\n				\n				Missourians fueled last year’s Amendment 3 victory enshrining the right to abortion and reproductive freedom in our state Constitution. This Missouri Legislative Session\, anti-abortion politicians are afraid of our power and are dead set on undermining our growing access to abortion care and bodily autonomy.  \nAbortion Action Missouri is hosting regional Defend Amendment 3 Rallies to show the power of our Missouri-grown movement for reproductive freedom. Join Missourians across the state at our rally in Centralia to show them that we will stop at nothing to defend Amendment 3 and protect abortion rights! \n			\n			\n				\n				\n				\n				\n			\n				\n				\n				\n				\n				\n				\n				REGISTER HERE!
URL:https://abortionactionmissouri.org/event/defend-amendment-3-rally-mid-mo/
LOCATION:Centralia City Square Park\, 114 S Rollins St\, Centralia\, 65240\, United States
CATEGORIES:Rallies
ATTACH;FMTTYPE=image/png:https://abortionactionmissouri.org/wp-content/uploads/2025/03/Defend-A3-Rallies-Banner-Mid-Missouri.png
END:VEVENT
BEGIN:VEVENT
DTSTART;TZID=UTC:20250419T110000
DTEND;TZID=UTC:20250419T120000
DTSTAMP:20260420T174757
CREATED:20250325T152936Z
LAST-MODIFIED:20250418T173318Z
UID:2416-1745060400-1745064000@abortionactionmissouri.org
SUMMARY:Defend Amendment 3 Rally - St. Louis-St. Charles
DESCRIPTION:Saturday\, April 19\, 2025 11:00 AM – 12:00 PM\n			\n				\n				\n				\n				\n				ATTN: NEW LOCATION – Mid-Rivers Mall Sears Parking Lot facing Hwy 70\, 1600 Mid Rivers Mall\, Saint Peters\, MO 63376 \n \nMissourians fueled last year’s Amendment 3 victory enshrining the right to abortion and reproductive freedom in our state Constitution. This Missouri Legislative Session\, anti-abortion politicians are afraid of our power and are dead set on undermining our growing access to abortion care and bodily autonomy. \nAbortion Action Missouri is hosting regional Defend Amendment 3 Rallies to show the power of our Missouri-grown movement for reproductive freedom. Join Missourians across the state at our rally in St. Charles to show them that we will stop at nothing to defend Amendment 3 and protect abortion rights! \n			\n			\n				\n				\n				\n				\n			\n				\n				\n				\n				\n				\n				\n				REGISTER HERE!
URL:https://abortionactionmissouri.org/event/defend-amendment-3-rally-stl-st-charles/
LOCATION:Mid River’s Mall\, 1600 Mid Rivers Mall\, St. Peters\, 63376\, United States
CATEGORIES:Rallies
ATTACH;FMTTYPE=image/png:https://abortionactionmissouri.org/wp-content/uploads/2025/03/Defend-A3-Rallies-Banner-STL-St.-Charles.png
END:VEVENT
END:VCALENDAR