BEGIN:VCALENDAR
VERSION:2.0
PRODID:-//Abortion Action Missouri - ECPv6.15.20//NONSGML v1.0//EN
CALSCALE:GREGORIAN
METHOD:PUBLISH
X-ORIGINAL-URL:https://abortionactionmissouri.org
X-WR-CALDESC:Events for Abortion Action Missouri
REFRESH-INTERVAL;VALUE=DURATION:PT1H
X-Robots-Tag:noindex
X-PUBLISHED-TTL:PT1H
BEGIN:VTIMEZONE
TZID:UTC
BEGIN:STANDARD
TZOFFSETFROM:+0000
TZOFFSETTO:+0000
TZNAME:UTC
DTSTART:20240101T000000
END:STANDARD
END:VTIMEZONE
BEGIN:VEVENT
DTSTART;TZID=UTC:20250414T183000
DTEND;TZID=UTC:20250414T200000
DTSTAMP:20260420T012041
CREATED:20250318T160143Z
LAST-MODIFIED:20250407T170439Z
UID:2353-1744655400-1744660800@abortionactionmissouri.org
SUMMARY:Prep Party for Defend Amendment 3 Rally – Springfield
DESCRIPTION:Monday\, April 14\, 2025 6:30 PM – 8:00 PM\n			\n				\n				\n				\n				\n				In anticipation of our Defend Amendment 3 Rally later this month\, we’re hosting a prep party to bring us together! Join us to make signs\, enjoy snacks\, and spend time with like-minded community members to make our rally as powerful as possible. \n			\n			\n				\n				\n				\n				\n			\n				\n				\n				\n				\n				\n				\n				REGISTER HERE!
URL:https://abortionactionmissouri.org/event/sgf-a3-rally-prep-party/
LOCATION:Schweitzer Brentwood Branch Library\, 2214 S Brentwood Blvd\, Springfield\, 65804\, United States
CATEGORIES:AAM Member Events
ATTACH;FMTTYPE=image/png:https://abortionactionmissouri.org/wp-content/uploads/2025/03/SGF-Prep-Party-for-Defend-A3-Rally-EA-Banner.png
END:VEVENT
END:VCALENDAR