BEGIN:VCALENDAR
VERSION:2.0
PRODID:-//Abortion Action Missouri - ECPv6.15.20//NONSGML v1.0//EN
CALSCALE:GREGORIAN
METHOD:PUBLISH
X-ORIGINAL-URL:https://abortionactionmissouri.org
X-WR-CALDESC:Events for Abortion Action Missouri
REFRESH-INTERVAL;VALUE=DURATION:PT1H
X-Robots-Tag:noindex
X-PUBLISHED-TTL:PT1H
BEGIN:VTIMEZONE
TZID:UTC
BEGIN:STANDARD
TZOFFSETFROM:+0000
TZOFFSETTO:+0000
TZNAME:UTC
DTSTART:20240101T000000
END:STANDARD
END:VTIMEZONE
BEGIN:VEVENT
DTSTART;TZID=UTC:20250312T180000
DTEND;TZID=UTC:20250312T193000
DTSTAMP:20260420T132019
CREATED:20250214T003045Z
LAST-MODIFIED:20250220T180327Z
UID:2128-1741802400-1741807800@abortionactionmissouri.org
SUMMARY:West County Base Meeting - March 2025
DESCRIPTION:Wednesday\, March 12\, 2025 6:00 PM – 7:30 PM \n			\n				\n				\n				\n				\n				Join us for important updates and time to strategize with fellow pro-reproductive freedom supporters in West St. Louis County! Together\, we’ll take what we’ve learned so far from our actions both regionally and in Jefferson City to plan for further mobilization during Missouri Legislative Session. \n			\n			\n				\n				\n				\n				\n			\n				\n				\n				\n				\n				\n				\n				REGISTER HERE!
URL:https://abortionactionmissouri.org/event/west-county-base-meeting-march-2025/
LOCATION:UFCW 655\, 300 Weidman Rd\, Manchester\, 63011\, United States
CATEGORIES:AAM Member Events
ATTACH;FMTTYPE=image/png:https://abortionactionmissouri.org/wp-content/uploads/2024/11/West-County-SD15-December-Base-Meeting-EA-Banner-FINAL.png
END:VEVENT
BEGIN:VEVENT
DTSTART;TZID=UTC:20250312T180000
DTEND;TZID=UTC:20250312T193000
DTSTAMP:20260420T132019
CREATED:20250218T194241Z
LAST-MODIFIED:20250220T180037Z
UID:2180-1741802400-1741807800@abortionactionmissouri.org
SUMMARY:Columbia Base Meeting - March 2025
DESCRIPTION:Wednesday\, March 12 – 6:00 PM – 7:30 PM\n			\n				\n				\n				\n				\n				Join us to hear important updates and to strategize with fellow pro-reproductive freedom supporters in Columbia! Together\, we’ll take what we’ve learned so far from our actions both regionally and in Jefferson City to plan for further mobilization during Missouri Legislative Session. \n			\n			\n				\n				\n				\n				\n			\n				\n				\n				\n				\n				\n				\n				REGISTER HERE!
URL:https://abortionactionmissouri.org/event/columbia-base-meeting-march-2025/
LOCATION:LiUNA Union Hall\, 404 Tiger Ln\, Columbia\, MO\, 65203\, United States
CATEGORIES:AAM Member Events
ATTACH;FMTTYPE=image/png:https://abortionactionmissouri.org/wp-content/uploads/2025/01/Columbia-Base-Meeting-EA-Banner.png
END:VEVENT
END:VCALENDAR